Workbook

Sheet Table des matières
A1: Table des matières
A3: 7.1 - Données de cadrage sur les effectifs issus de Siasp
A4: 7.2 - De la table poste à la table individuelle
A5: 7.3 - Salaires bruts et nets mensuels moyens des personnels
A6: ='7.4'!A1 -> 7.4 - Salaires nets mensuels moyens des enseignants selon le temps de travail
A7: ='7.5'!A1 -> 7.5 - Salaires nets mensuels moyens des personnels non enseignants selon le temps de travail
A8: ='7.6'!A1 -> 7.6 - Comparaison des salaires mensuels moyens des fonctionnaires et assimilés entre la France métropolitaine et les DROM (hors Mayotte)
A9: 7.7 - Décomposition du salaire net mensuel moyen des personnels
A10: 7.8 - Distribution du salaire net mensuel des personnels
A11: 7.9 - Répartition des personnels selon leur niveau de salaire
A12: ='7.10'!A1 -> 7.10 - Évolution du salaire net moyen des fonctionnaires et assimilés
A13: ='7.11'!A1 -> 7.11 - Salaires mensuels moyens des fonctionnaires enseignants du secteur public
A14: ='7.12'!A1 -> 7.12 - Salaires mensuels moyens des enseignants assimilés titulaires du privé sous contrat
A15: ='7.13'!A1 -> 7.13 - Salaires mensuels moyens des enseignantes et des enseignants du secteur public
A16: ='7.14'!A1 -> 7.14 - Salaires mensuels moyens des enseignantes et des enseignants du secteur privé sous contrat
A17: ='7.15'!A1 -> 7.15 - Répartition du salaire net mensuel des enseignants par degré, sexe et secteur
A18: ='7.16'!A1 -> 7.16 - Décomposition de l'évolution du salaire net mensuel moyen des enseignants entre 2023 et 2024, en euros constants (1)
A19: ='7.17'!A1 -> 7.17 - Évolution du salaire statutaire (brut mensuel) des enseignants à différents moments de la carrière, en euros constants (1)
A20: ='7.18'!A1 -> 7.18 - Mise en regard de l'évolution du salaire brut statutaire des enseignants avec celles de la valeur du point d'indice, de l'inflation et du Smic, en euros constants (1)
A21: ='7.19'!A1 -> 7.19 - Évolution de la valeur annuelle du point d'indice de la fonction publique et de l'indice des prix à la consommation entre les rentrées 1990 et 2025
A22: ='7.20'!A1 -> 7.20 - Rapport du salaire brut statutaire des enseignants au montant d'un SMIC brut (1) à temps plein, à différents moments de leur carrière
A23: ='7.21'!A1 -> 7.21 - Salaires mensuels moyens des personnels non enseignants
A24: ='7.22'!A1 -> 7.22 - Salaires mensuels moyens des personnels non enseignants de catégorie A
A25: ='7.23'!A1 -> 7.23 - Salaires mensuels moyens des personnels non enseignants de catégorie B
A26: ='7.24'!A1 -> 7.24 - Salaires mensuels moyens des personnels non enseignants de catégorie C
A27: ='7.25'!A1 -> 7.25 - Répartition du salaire net mensuel moyen des personnels non enseignants selon le sexe
A28: ='7.26'!A1 -> 7.26 - Décomposition de l'évolution du salaire net mensuel moyen des personnels non enseignants entre 2023 et 2024, en euros constants (1)

Sheet 7.1
A1: 7.1 - Données de cadrage sur les effectifs issus de Siasp
B3: Femmes | E3: Hommes | H3: Ensemble
B4: Effectifs | C4: % à temps partiel ou incomplet | D4: Quotité moyenne à temps partiel ou incomplet | E4: Effectifs | F4: % à temps partiel ou incomplet | G4: Quotité moyenne à temps partiel ou incomplet | H4: Effectifs | I4: % à temps partiel ou incomplet | J4: EQTP
A5: Enseignants du public | B5: 536103 | C5: 12.55 | D5: 0.77 | E5: 216773 | F5: 6.71 | G5: 0.76 | H5: 752876 | I5: 10.87 | J5: 709552
A6: Fonctionnaires | B6: 501969 | C6: 11.95 | D6: 0.78 | E6: 193097 | F6: 5.31 | G6: 0.78 | H6: 695066 | I6: 10.11 | J6: 663306
A7: dont, P. des écoles | B7: 294357 | C7: 11.51 | D7: 0.77 | E7: 50962 | F7: 3.91 | G7: 0.77 | H7: 345319 | I7: 10.39 | J7: 328171
A8: P. certifiés | B8: 139244 | C8: 13.76 | D8: 0.8 | E8: 74701 | F8: 6.51 | G8: 0.79 | H8: 213945 | I8: 11.23 | J8: 204311
A9: P. d'EPS | B9: 11173 | C9: 11.74 | D9: 0.79 | E9: 15776 | F9: 6.07 | G9: 0.78 | H9: 26949 | I9: 8.42 | J9: 25861
A10: P. de lycée professionnel | B10: 26674 | C10: 7.41 | D10: 0.79 | E10: 25512 | F10: 3.45 | G10: 0.79 | H10: 52186 | I10: 5.47 | J10: 50759
A11: P. agrégés | B11: 29100 | C11: 12.37 | D11: 0.79 | E11: 24605 | F11: 6.28 | G11: 0.78 | H11: 53705 | I11: 9.58 | J11: 51357
A12: P. de chaire supérieure | B12: 830 | C12: 1.33 | D12: 0.78 | E12: 1310 | F12: 0.15 | G12: 0.82 | H12: 2140 | I12: 0.61 | J12: 2106
A13: Contractuels | B13: 34134 | C13: 21.35 | D13: 0.71 | E13: 23676 | F13: 18.18 | G13: 0.72 | H13: 57810 | I13: 20.06 | J13: 46246
A14: Enseignants du privé sous contrat | B14: 104517 | C14: 22.53 | D14: 0.71 | E14: 35644 | F14: 16.26 | G14: 0.72 | H14: 140161 | I14: 20.93 | J14: 125552
A15: Assimilés titulaires | B15: 85261 | C15: 17.38 | D15: 0.73 | E15: 26598 | F15: 9.28 | G15: 0.74 | H15: 111859 | I15: 15.46 | J15: 105078
A16: dont, P. des écoles | B16: 35713 | C16: 18.2 | D16: 0.7 | E16: 3103 | F16: 9.18 | G16: 0.71 | H16: 38816 | I16: 17.47 | J16: 35881
... A36: Contractuels et maîtres délégués | B36: 234957 | C36: 72.1 | D36: 0.64 | E36: 70490 | F36: 44.46 | G36: 0.66 | H36: 305447 | I36: 65.72 | J36: 205202
J37: Panorama statistique des personnels de l’enseignement scolaire 2026, DEPP
A38: 1. Personnels de direction, d'inspection et d'encadrement supérieur.
A39: 2. Conseillers principaux d'éducation et psychologues de l'éducation nationale.
A40: 3. Personnels administratifs, techniques, sociaux et de santé.
A41: 4. Ingénieurs et personnels techniques de recherche et de formation.
A42: 5. Conseillers d'orientation intérimaire, AED et AESH.
A43: Champ : France hors Mayotte, public + privé sous contrat. Agents en fonction au ministère de l'Éducation nationale en 2024.
A44: Source : Insee, Système d'information sur les agents des services publics (Siasp). Traitement DEPP.

Sheet 7.2
A1: 7.2 - De la table poste à la table individuelle
B3: Approche poste | F3: Approche individuelle
B4: Salaire brut moyen | C4: Salaire brut moyen EQTP | D4: Salaire net moyen | E4: Salaire net moyen EQTP | F4: Salaire brut moyen | G4: Salaire brut moyen EQTP | H4: Salaire net moyen | I4: Salaire net moyen EQTP
A5: Fonctionnaires | B5: 3800 | C5: 3960 | D5: 3080 | E5: 3210 | F5: 3860 | G5: 3960 | H5: 3130 | I5: 3210
A6: Professeurs des écoles | B6: 3520 | C6: 3680 | D6: 2830 | E6: 2960 | F6: 3580 | G6: 3690 | H6: 2880 | I6: 2960
A7: Enseignants fonctionnaires du 2nd degré (1) | B7: 4080 | C7: 4230 | D7: 3330 | E7: 3450 | F7: 4140 | G7: 4240 | H7: 3370 | I7: 3450
A8: Personnels de direction et d'inspection | B8: 5800 | C8: 5830 | D8: 4700 | E8: 4730 | F8: 5860 | G8: 5860 | H8: 4750 | I8: 4760
A9: CPE et PsyEN (2) | B9: 3740 | C9: 3850 | D9: 3030 | E9: 3110 | F9: 3790 | G9: 3860 | H9: 3060 | I9: 3120
A10: Autres personnels non enseignants | B10: 3380 | C10: 3470 | D10: 2760 | E10: 2840 | F10: 3370 | G10: 3470 | H10: 2760 | I10: 2840
A11: Enseignants assimilés titulaires (privé sous contrat) | B11: 3660 | C11: 3870 | D11: 2860 | E11: 3020 | F11: 3670 | G11: 3840 | H11: 2870 | I11: 3000
A12: Contractuels et maîtres délégués | B12: 1800 | C12: 2360 | D12: 1450 | E12: 1910 | F12: 1810 | G12: 2370 | H12: 1460 | I12: 1910
A13: Professeurs contractuels (public) | B13: 2680 | C13: 2930 | D13: 2170 | E13: 2380 | F13: 2740 | G13: 2940 | H13: 2220 | I13: 2390
A14: Maitres délégués (privé sous contrat) | B14: 2380 | C14: 2830 | D14: 1920 | E14: 2290 | F14: 2420 | G14: 2820 | H14: 1960 | I14: 2270
A15: Personnels d'assistance éducative (3) | B15: 1380 | C15: 2050 | D15: 1110 | E15: 1650 | F15: 1410 | G15: 2060 | H15: 1140 | I15: 1660
A16: Non-enseignants (hors AED-AESH) | B16: 2380 | C16: 2590 | D16: 1910 | E16: 2090 | F16: 2380 | G16: 2580 | H16: 1920 | I16: 2080
A17: Ensemble | B17: 3230 | C17: 3640 | D17: 2610 | E17: 2930 | F17: 3330 | G17: 3650 | H17: 2680 | I17: 2940
I18: Panorama statistique des personnels de l’enseignement scolaire 2026, DEPP
A19: 1. Professeurs de chaire supérieure, agrégés, certifiés, d’EPS et de lycée professionnel
A20: 2. Conseillers principaux d'éducation et psychologues de l'Éducation nationale
A21: 3. Assistants d'éducation (AED) et accompagnants des élèves en situation de handicap (AESH)
A22: Champ : France hors Mayotte, public + privé sous contrat. Agents en fonction au ministère de l'Éducation nationale en 2024.
A23: Source : Insee, Système d'information sur les agents des services publics (Siasp). Traitement DEPP.

Sheet 7.3
A1: 7.3 - Salaires bruts et nets mensuels moyens des personnels
B3: Salaire brut moyen | C3: Salaire net | G3: Salaire net moyen EQTP
C4: Moyenne | D4: Médiane | E4: D9/D1 | F4: Ratio femmes/hommes
A5: Ensemble | B5: 3330 | C5: 2680 | D5: 2690 | E5: 3.6 | F5: 0.85 | G5: 2940
A6: Fonctionnaires et assimilés | B6: 3840 | C6: 3100 | D6: 2990 | E6: 1.9 | F6: 0.88 | G6: 3190
A7: Catégorie A | B7: 3890 | C7: 3140 | D7: 3020 | E7: 1.9 | F7: 0.88 | G7: 3230
A8: Catégorie B | B8: 3020 | C8: 2470 | D8: 2400 | E8: 1.5 | F8: 0.96 | G8: 2520
A9: Catégorie C | B9: 2520 | C9: 2050 | D9: 2000 | E9: 1.4 | F9: 0.97 | G9: 2110
A10: Contractuels et maîtres délégués | B10: 1810 | C10: 1460 | D10: 1240 | E10: 2.6 | F10: 0.79 | G10: 1910
A11: Enseignants | B11: 3720 | C11: 3000 | D11: 2910 | E11: 1.9 | F11: 0.91 | G11: 3120
A12: Fonctionnaires et assimilés | B12: 3830 | C12: 3090 | D12: 3000 | E12: 1.8 | F12: 0.89 | G12: 3180
A13: Public | B13: 3860 | C13: 3120 | D13: 3040 | E13: 1.8 | F13: 0.89 | G13: 3210
A14: Privé | B14: 3670 | C14: 2870 | D14: 2790 | E14: 1.8 | F14: 0.89 | G14: 3000
A15: Fonctionnaires et assimilés du 1er degré | B15: 3560 | C15: 2850 | D15: 2770 | E15: 1.7 | F15: 0.92 | G15: 2940
A16: Public | B16: 3580 | C16: 2880 | D16: 2800 | E16: 1.7 | F16: 0.93 | G16: 2960
... A28: dont AED-AESH | B28: 1410 | C28: 1140 | D28: 1060 | E28: 1.8 | F28: 0.93 | G28: 1660
G29: Panorama statistique des personnels de l’enseignement scolaire 2026, DEPP
A30: Unité : salaire en euros.
A31: Champ : France hors Mayotte, public + privé sous contrat. Agents en fonction au ministère de l'Éducation nationale en 2024.
A32: Source : Insee, Système d'information sur les agents des services publics (Siasp). Traitement DEPP.

Sheet 7.4
A1: 7.4 - Salaires nets mensuels moyens des enseignants selon le temps de travail
B3: Enseignants à temps complet | F3: Enseignants à temps partiel | J3: Part du temps partiel parmi l'ensemble des agents sur qui reposent les salaires (%)
B4: Moyenne | C4: Médiane | D4: D9/D1 | E4: Ratio F/H | F4: Moyenne | G4: Médiane | H4: D9/D1 | I4: Ratio F/H
A5: Fonctionnaires du 1er degré public | B5: 2970 | C5: 2890 | D5: 1.6 | E5: 0.95 | F5: 2120 | G5: 2110 | H5: 1.8 | I5: 0.95 | J5: 10.4
A6: Moins de 30 ans | B6: 2310 | C6: 2270 | D6: 1.4 | E6: 0.99 | F6: 1880 | G6: 1940 | H6: 1.9 | I6: 1.08 | J6: 5.1
A7: 30-39 ans | B7: 2620 | C7: 2520 | D7: 1.4 | E7: 0.98 | F7: 2040 | G7: 2070 | H7: 1.6 | I7: 0.98 | J7: 20.7
A8: 40-49 ans | B8: 2940 | C8: 2860 | D8: 1.4 | E8: 0.97 | F8: 2110 | G8: 2120 | H8: 1.8 | I8: 0.98 | J8: 10.2
A9: 50 ans ou plus | B9: 3350 | C9: 3280 | D9: 1.5 | E9: 0.95 | F9: 2350 | G9: 2380 | H9: 2 | I9: 0.93 | J9: 5.7
A10: Fonctionnaires du 2nd degré public | B10: 3450 | C10: 3390 | D10: 1.8 | E10: 0.95 | F10: 2630 | G10: 2590 | H10: 1.9 | I10: 0.96 | J10: 9.8
A11: Moins de 30 ans | B11: 2550 | C11: 2510 | D11: 1.6 | E11: 0.98 | F11: 1940 | G11: 1990 | H11: 2.3 | I11: 1.05 | J11: 3.6
A12: 30-39 ans | B12: 2990 | C12: 2860 | D12: 1.6 | E12: 0.96 | F12: 2330 | G12: 2330 | H12: 1.7 | I12: 0.98 | J12: 12.7
A13: 40-49 ans | B13: 3380 | C13: 3250 | D13: 1.6 | E13: 0.95 | F13: 2510 | G13: 2500 | H13: 1.8 | I13: 1 | J13: 10.5
A14: 50 ans ou plus | B14: 3820 | C14: 3730 | D14: 1.6 | E14: 0.95 | F14: 2910 | G14: 2970 | H14: 1.8 | I14: 0.97 | J14: 9.3
A15: Assimilés-titulaires du 1er degré privé | B15: 2750 | C15: 2600 | D15: 1.5 | E15: 0.93 | F15: 1980 | G15: 1900 | H15: 2.2 | I15: 0.8 | J15: 17.5
A16: Moins de 30 ans | B16: 2210 | C16: 2220 | D16: 1.3 | E16: 0.99 | F16: 1700 | G16: 1740 | H16: 1.8 | I16: 1.06 | J16: 7.8
... A29: 50 ans ou plus | B29: 2460 | C29: 2360 | D29: 1.7 | E29: 0.92 | F29: 1570 | G29: 1540 | H29: 2.4 | I29: 0.95 | J29: 27.8
J30: Panorama statistique des personnels de l’enseignement scolaire 2026, DEPP
A31: Unité : salaire en euros.
A32: Lecture : parmi les enseignants fonctionnaires du 1er degré public en poste au MEN en 2024 (durant toute l'année ou seulement une partie de l'année), 89,6 % exercent à temps complet et perçoivent un salaire net mensuel moyen de 2 970 euros et 10,4 % exercent à temps partiel et perçoivent un salaire net mensuel moyen de 2 120 euros. Les 10 % des enseignants fonctionnaires du 1er degré à temps complet les mieux rémunérés perçoivent 1,60 fois plus que les 10 % des enseignants du 1er degré à temps complet les moins bien rémunérés. En moyenne, une enseignante du 1er degré à temps complet perçoit un salaire net moyen inférieur de 5 % à son homologue masculin.
A33: Champ : France hors Mayotte, public + privé sous contrat, enseignants en fonction au ministère de l'Éducation nationale en 2024.
A34: Source : Insee, Système d'information sur les agents des services publics (Siasp). Traitement DEPP.

Sheet 7.5
A1: 7.5 - Salaires nets mensuels moyens des personnels non enseignants selon le temps de travail
B3: Agents à temps complet | F3: Agents à temps partiel | J3: Part du temps partiel parmi l'ensemble des agents sur qui reposent les salaires (%)
B4: Moyenne | C4: Médiane | D4: D9/D1 | E4: Salaires F/H | F4: Moyenne | G4: Médiane | H4: D9/D1 | I4: Salaires F/H
A5: Fonctionnaires de catégorie A | B5: 3900 | C5: 3650 | D5: 2.1 | E5: 0.83 | F5: 2580 | G5: 2510 | H5: 2 | I5: 0.91 | J5: 8.8
A6: Moins de 30 ans | B6: 2500 | C6: 2470 | D6: 1.4 | E6: 0.94 | F6: 1560 | G6: 1330 | H6: 2 | I6: 1.22 | J6: 5.4
A7: 30-39 ans | B7: 2900 | C7: 2740 | D7: 1.6 | E7: 0.89 | F7: 2330 | G7: 2320 | H7: 1.5 | I7: 1.03 | J7: 17.7
A8: 40-49 ans | B8: 3620 | C8: 3450 | D8: 1.8 | E8: 0.86 | F8: 2530 | G8: 2510 | H8: 1.7 | I8: 0.9 | J8: 10.6
A9: 50 ans ou plus | B9: 4270 | C9: 4050 | D9: 2 | E9: 0.84 | F9: 2810 | G9: 2740 | H9: 2.2 | I9: 0.93 | J9: 6.3
A10: Fonctionnaires de catégorie B | B10: 2520 | C10: 2440 | D10: 1.4 | E10: 0.98 | F10: 2080 | G10: 2070 | H10: 1.4 | I10: 1 | J10: 11.6
A11: Moins de 30 ans | B11: 2150 | C11: 2090 | D11: 1.2 | E11: 0.99 | F11: 1760 | G11: 1790 | H11: 1.5 | I11: 1.07 | J11: 6.3
A12: 30-39 ans | B12: 2280 | C12: 2200 | D12: 1.3 | E12: 1 | F12: 1970 | G12: 1940 | H12: 1.3 | I12: 1 | J12: 18.9
A13: 40-49 ans | B13: 2470 | C13: 2390 | D13: 1.4 | E13: 0.98 | F13: 2080 | G13: 2070 | H13: 1.4 | I13: 1.06 | J13: 14.7
A14: 50 ans ou plus | B14: 2610 | C14: 2520 | D14: 1.4 | E14: 0.97 | F14: 2160 | G14: 2160 | H14: 1.5 | I14: 0.98 | J14: 8.4
A15: Fonctionnaires de catégorie C | B15: 2100 | C15: 2030 | D15: 1.4 | E15: 0.99 | F15: 1740 | G15: 1750 | H15: 1.6 | I15: 1.03 | J15: 14.9
A16: Moins de 30 ans | B16: 1940 | C16: 1870 | D16: 1.3 | E16: 1.02 | F16: 1600 | G16: 1610 | H16: 1.6 | I16: 1.12 | J16: 10.1
... A24: 50 ans ou plus | B24: 1880 | C24: 1660 | D24: 1.6 | E24: 0.87 | F24: 1070 | G24: 1010 | H24: 1.5 | I24: 0.98 | J24: 89.5
J25: Panorama statistique des personnels de l’enseignement scolaire 2026, DEPP
A26: Unité : salaire en euros.
A27: Lecture : parmi les fonctionnaires non enseignants de catégorie A en poste au MEN en 2024 (durant toute l'année ou seulement une partie de l'année), 91,2 % exercent à temps complet et perçoivent un salaire net mensuel moyen de 3 900 euros et 8,8 % exercent à temps partiel et perçoivent un salaire net mensuel moyen de 2 580 euros. Les 10 % des fonctionnaires non enseignants de catégorie A à temps complet les mieux rémunérés perçoivent 2,10 fois plus que les 10 % des personnels non enseignants de catégorie A à temps complet les moins bien rémunérés. En moyenne, une fonctionnaire non enseignante de catégorie A à temps complet perçoit un salaire net moyen inférieur de 17 % à son homologue masculin.
A28: Champ : France hors Mayotte, public, personnels non enseignants en fonction au ministère de l'Éducation nationale en 2024.
A29: Source : Insee, Système d'information sur les agents des services publics (Siasp). Traitement DEPP.

Sheet 7.6
A1: 7.6 - Comparaison des salaires mensuels moyens des fonctionnaires et assimilés entre la France métropolitaine et les DROM (hors Mayotte)
B3: France métropolitaine | H3: DROM (hors Mayotte)
B4: Salaire brut moyen | C4: TIB moyen | D4: Part de primes (en %) (1) | E4: Salaire net moyen | F4: Rapport salaire net moyen F/H | G4: Salaire net moyen EQTP | H4: Salaire brut moyen | I4: TIB moyen | J4: Part de primes (en %) (1) | K4: Salaire net moyen | L4: Rapport salaire net moyen F/H | M4: Salaire net moyen EQTP
A5: Ensemble | B5: 3780 | C5: 3040 | D5: 17.9 | E5: 3040 | F5: 0.88 | G5: 3130 | H5: 5260 | I5: 3230 | J5: 38 | K5: 4380 | L5: 0.9 | M5: 4430
A6: Enseignants du public | B6: 3790 | C6: 3080 | D6: 17 | E6: 3060 | F6: 0.89 | G6: 3150 | H6: 5310 | I6: 3280 | J6: 37.6 | K6: 4430 | L6: 0.91 | M6: 4480
A7: P. des écoles | B7: 3510 | C7: 2950 | D7: 14.3 | E7: 2820 | F7: 0.93 | G7: 2900 | H7: 5000 | I7: 3130 | J7: 36.8 | K7: 4150 | L7: 0.94 | M7: 4200
A8: P. agrégés | B8: 4860 | C8: 3790 | D8: 20.3 | E8: 3960 | F8: 0.94 | G8: 4070 | H8: 6970 | I8: 4260 | J8: 38.3 | K8: 5850 | L8: 0.96 | M8: 5910
A9: P. certifiés | B9: 3840 | C9: 3080 | D9: 18.5 | E9: 3120 | F9: 0.95 | G9: 3210 | H9: 5490 | I9: 3360 | J9: 38.4 | K9: 4590 | L9: 0.94 | M9: 4650
A10: P. d'EPS | B10: 3890 | C10: 3070 | D10: 19.6 | E10: 3160 | F10: 1 | G10: 3240 | H10: 5510 | I10: 3380 | J10: 38.2 | K10: 4610 | L10: 1 | M10: 4690
A11: P. de lycée pro. | B11: 4110 | C11: 3200 | D11: 20.6 | E11: 3350 | F11: 0.95 | G11: 3390 | H11: 5490 | I11: 3360 | J11: 38.2 | K11: 4590 | L11: 0.94 | M11: 4620
A12: Enseignants du privé | B12: 3650 | C12: 2900 | D12: 18.8 | E12: 2850 | F12: 0.89 | G12: 2980 | H12: 4950 | I12: 2980 | J12: 39.4 | K12: 3890 | L12: 0.93 | M12: 3960
A13: P. des écoles | B13: 3340 | C13: 2780 | D13: 14.8 | E13: 2590 | F13: 0.9 | G13: 2750 | H13: 4670 | I13: 2820 | J13: 38.9 | K13: 3650 | L13: 0.95 | M13: 3690
A14: P. agrégés | B14: 4960 | C14: 3840 | D14: 20.9 | E14: 3900 | F14: 0.91 | G14: 3990 | H14: 6610 | I14: 4030 | J14: 38.6 | K14: 5220 | L14: 0.89 | M14: 5400
A15: P. certifiés | B15: 3710 | C15: 2900 | D15: 20.2 | E15: 2910 | F15: 0.94 | G15: 3040 | H15: 5130 | I15: 3070 | J15: 39.9 | K15: 4050 | L15: 0.95 | M15: 4140
A16: P. d'EPS | B16: 3750 | C16: 2960 | D16: 19.8 | E16: 2940 | F16: 0.98 | G16: 3020 | H16: 4940 | I16: 3090 | J16: 37 | K16: 3890 | L16: 1.01 | M16: 3960
... A22: P. ITRF | B22: 3040 | C22: 2260 | D22: 24.1 | E22: 2470 | F22: 0.84 | G22: 2540 | H22: 4010 | I22: 2390 | J22: 39.9 | K22: 3340 | L22: 0.87 | M22: 3350
M23: Panorama statistique des personnels de l’enseignement scolaire 2026, DEPP
A24: 1. La part de primes dans le salaire brut correspond au total des primes et indemnités (hors IR, SFT) divisé par le salaire brut. Les rémunérations pour heures supplémentaires et la NBI sont comptabilisées dans les primes et indemnités (cf. "Définitions").
A25: Unité : salaire en euros.
A26: Champ : France hors Mayotte, public + privé sous contrat, fonctionnaires et assimilés en fonction au ministère de l'Éducation nationale en 2024.
A27: Source : Insee, Système d'information sur les agents des services publics (Siasp). Traitement DEPP.

Sheet 7.7
A1: 7.7 - Décomposition du salaire net mensuel moyen des personnels
B3: Fonctionnaires | G3: Assimilés titulaires | H3: Contractuels et maîtres délégués
B4: Enseignants | C4: Non-enseignants | H4: Enseignants | I4: Non-enseignants
C5: Ensemble | D5: Cat. A | E5: Cat. B | F5: Cat. C
A6: Salaire brut (a) | B6: 3860 | C6: 3860 | D6: 4640 | E6: 3020 | F6: 2520 | G6: 3670 | H6: 2640 | I6: 1490
A7: Contributions et cotisations sociales (b) | B7: 740 | C7: 720 | D7: 860 | E7: 550 | F7: 480 | G7: 800 | H7: 500 | I7: 290
A8: - Cotisations sociales salariées | B8: 370 | C8: 350 | D8: 430 | E8: 270 | F8: 240 | G8: 410 | H8: 320 | I8: 160
A9: - CSG (1) et CRDS (2) | B9: 370 | C9: 360 | D9: 440 | E9: 280 | F9: 240 | G9: 400 | H9: 180 | I9: 130
A10: Salaire net (a - b) | B10: 3120 | C10: 3140 | D10: 3780 | E10: 2470 | F10: 2050 | G10: 2870 | H10: 2130 | I10: 1200
I11: Panorama statistique des personnels de l’enseignement scolaire 2026, DEPP
A12: 1. Contribution sociale généralisée
A13: 2. Contribution au remboursement de la dette sociale
A14: Unité : salaire en euros.
A15: Champ : France hors Mayotte, public + privé sous contrat. Agents en fonction au ministère de l'Éducation nationale en 2024.
A16: Source : Insee, Système d'information sur les agents des services publics (Siasp). Traitement DEPP.

Sheet 7.8
A1: 7.8 - Distribution du salaire net mensuel moyen des personnels
F22: Panorama statistique des personnels de l’enseignement scolaire 2026, DEPP
A23: Unité : salaire en euros.
A24: Lecture : en 2024, en France (hors Mayotte), les 20 % des agents du ministère les moins bien rémunérés perçoivent un salaire net mensuel inférieur ou égal à 1 720 euros.
A25: Champ : France hors Mayotte, public + privé sous contrat. Agents en fonction au ministère de l'Éducation nationale en 2024.
A26: Source : Insee, Système d'information sur les agents des services publics (Siasp). Traitement DEPP.
B28: 1er décile | C28: 2e décile | D28: Médiane | E28: 8e décile | F28: 9e décile | H28: y-position | I28: dif
A29: Ensemble | B29: 1100 | C29: 1720 | D29: 2690 | E29: 3500 | F29: 3950 | H29: 6 | I29: =B29-F29 -> -2850 | J29: 800
A30: Enseignants fonctionnaires (public) | B30: 2250 | C30: 2480 | D30: 3040 | E30: 3710 | F30: 4100 | H30: 5 | I30: =B30-F30 -> -1850 | J30: 800
A31: Enseignants assimilés titulaires (privé s.c.) | B31: 2100 | C31: 2350 | D31: 2790 | E31: 3390 | F31: 3750 | H31: 4 | I31: =B31-F31 -> -1650 | J31: 800
A32: Non-enseignants fonctionnaires (public) | B32: 1920 | C32: 2080 | D32: 2800 | E32: 4110 | F32: 4880 | H32: 3 | I32: =B32-F32 -> -2960 | J32: 800
A33: Enseignants contractuels (public + privé s.c.) | B33: 1390 | C33: 1740 | D33: 2120 | E33: 2550 | F33: 2830 | H33: 2 | I33: =B33-F33 -> -1440 | J33: 800
A34: Non-enseignants contractuels (public) | B34: 860 | C34: 970 | D34: 1080 | E34: 1460 | F34: 1610 | H34: 1 | I34: =B34-F34 -> -750 | J34: 800

Sheet 7.9
A1: 7.9 - Répartition des personnels selon leur niveau de salaire (en %)
H4: moins de 1 720 € | I4: 1 720 € à 2 690 € | J4: 2 690 € à 3 500 € | K4: plus de 3 500 €
G5: P. techniques (cat. C) | H5: 11.159912 | I5: 83.34997 | J5: 5.3304053 | K5: 0.1597125
G6: Techniciens de recherche (cat. B) | H6: 1.607884 | I6: 77.23029 | J6: 19.813278 | K6: 1.348548
G7: P. administratifs (cat. B) | H7: 1.905896 | I7: 73.674806 | J7: 21.672953 | K7: 2.746344
G8: Ingénieurs de recherche et d'études, assistants ingénieurs (cat. A) | H8: 0.3510532 | I8: 5.8174524 | J8: 36.058174 | K8: 57.77332
G9: P. sociaux et de santé (cat. A) | H9: 3.212886 | I9: 32.538093 | J9: 48.750544 | K9: 15.498476
G10: P. administratifs (cat. A) | H10: 0.4727353 | I10: 3.9687775 | J10: 29.133685 | K10: 66.424802
G11: Psychologues de l'éducation nationale (cat. A) | H11: 2.617562 | I11: 33.5261 | J11: 43.661543 | K11: 20.194795
G12: Conseillers principaux d'éducation (cat. A) | H12: 1.542566 | I12: 28.174769 | J12: 43.083465 | K12: 27.1992
G13: Personnels d'encadrement (cat. A) | H13: 0.08449276 | I13: 0.51258942 | J13: 4.680899 | K13: 94.722019
H19: moins de 1 720 € | I19: 1 720 € à 2 690 € | J19: 2 690 € à 3 500 € | K19: plus de 3 500 €
G20: Professeurs de ch. sup et agrégés - privé | H20: 0.3661886 | I20: 4.6689045 | J20: 23.954837 | K20: 71.01007
G21: Professeurs de ch. sup et agrégés - public | H21: 0.4655744 | I21: 6.349718 | J21: 18.390187 | K21: 74.794521
G22: Professeurs de lycée pro. - privé | H22: 2.200985 | I22: 19.91505 | J22: 48.942948 | K22: 28.941017
G23: Professeurs de lycée pro. - public | H23: 1.044341 | I23: 11.606561 | J23: 43.848925 | K23: 43.500172
G24: Professeurs d'EPS - privé | H24: 1.848549 | I24: 30.565915 | J24: 51.451273 | K24: 16.134263
G25: Professeurs d'EPS - public | H25: 1.183717 | I25: 20.56106 | J25: 44.19459 | K25: 34.060633
G26: Professeurs certifiés - privé | H26: 3.32955 | I26: 33.56602 | J26: 45.82293 | K26: 17.2815
G27: Professeurs certifiés - public | H27: 1.50506 | I27: 23.91923 | J27: 42.54832 | K27: 32.02739
G28: Professeurs des écoles - privé | H28: 6.999691 | I28: 56.16756 | J28: 29.822754 | K28: 7.009996
G29: Professeurs des écoles - public | H29: 2.326544 | I29: 39.973763 | J29: 43.018195 | K29: 14.681497
H35: moins de 1 720 € | I35: 1 720 € à 2 690 € | J35: 2 690 € à 3 500 € | K35: plus de 3 500 €
G36: Contractuels non enseignants (hors assistance éducative) | H36: 44.217645 | I36: 47.83277 | J36: 5.066093 | K36: 2.883492
G37: AED & AESH | H37: 97.264983 | I37: 2.7167972 | J37: 0.012803467 | K37: 0.005416851
G38: Maitres délégués (privé sous contrat) | H38: 28.803618 | I38: 63.910678 | J38: 6.61084 | K38: 0.674864
G39: Professeurs contractuels (public) | H39: 14.539007 | I39: 67.706279 | J39: 15.533645 | K39: 2.221069
F44: Panorama statistique des personnels de l’enseignement scolaire 2026, DEPP
A45: Lecture : en 2024, la moitié des agents rémunérés par le ministère de l'Education nationale (tous types de personnels et tous statuts) perçoivent un salaire net mensuel inférieur à 2690 euros. Cela concerne l'ensemble des AED et AESH. L'autre moitié perçoit un salaire supérieur à 2690 euros. Cela concerne 99,4 % des personnels d'encadrement et 93,2 % des professeurs agrégés et de chaire supérieure du public.
A46: Champ : France hors Mayotte, public + privé sous contrat. Enseignants fonctionnaires et assimilés rémunérés par le ministère de l'Éducation nationale en 2024.
A47: Source : Insee, Système d'information sur les agents des services publics (Siasp). Traitement DEPP.

Sheet 7.10
A1: 7.10 - Évolution du salaire net moyen des fonctionnaires et assimilés
B3: Evolution du salaire net mensuel moyen entre 2023 et 2024, en euros constants (1) (%) | D3: Répartition des agents présents en 2023 et 2024, selon l'évolution individuelle de salaire net qu'ils ont connu entre les deux années (%)
B4: Ensemble | C4: Agents présents en 2023 et 2024 | D4: Baisse | E4: Stagnation | F4: Augmentation
A5: Fonctionnaires | B5: 4.09 | C5: 5.01 | D5: 14.32 | E5: 9.27 | F5: 76.41
A6: Enseignants | B6: 4.38 | C6: 5.3 | D6: 12.94 | E6: 8.08 | F6: 78.98
A7: 1er degré (P. des écoles) | B7: 5.06 | C7: 6.08 | D7: 8.8 | E7: 5.94 | F7: 85.26
A8: 2d degré | B8: 3.83 | C8: 4.66 | D8: 17 | E8: 10.18 | F8: 72.82
A9: Non-enseignants | B9: 2.12 | C9: 2.97 | D9: 24.42 | E9: 17.96 | F9: 57.62
A10: Catégorie A | B10: 2.68 | C10: 3.91 | D10: 15.49 | E10: 11.57 | F10: 72.94
A11: Catégorie B | B11: 0.49 | C11: 1.65 | D11: 22.84 | E11: 29.21 | F11: 47.95
A12: Catégorie C | B12: -0.32 | C12: 0.07 | D12: 46.74 | E12: 25.49 | F12: 27.77
A13: Enseignants assimilés titulaires du privé | B13: 4.1 | C13: 4.51 | D13: 14.52 | E13: 9.1 | F13: 76.38
A14: 1er degré (P. des écoles) | B14: 4.52 | C14: 4.89 | D14: 10.82 | E14: 7.97 | F14: 81.2
A15: 2d degré | B15: 3.85 | C15: 4.33 | D15: 16.49 | E15: 9.7 | F15: 73.81
A16: Ensemble des fonctionnaires et assimilés | B16: 3.13 | C16: 5.1 | D16: 16.62 | E16: 9.12 | F16: 74.25
F17: Panorama statistique des personnels de l’enseignement scolaire 2026, DEPP
A18: 1. Les salaires nets 2023 ont été corrigés de la hausse des prix qui s'élève à 2,0 % entre 2023 et 2024.
A19: Lecture : Entre 2023 et 2024, le salaire net mensuel moyen des fonctionnaires et assimilés a augmenté de 3,1% en euros constants et, pour ceux qui étaient déjà présents en 2023, il a augmenté de 5,1 % en euros constants. Parmi les fonctionnaires et assimilés présents en 2023 et 2024, 16,6% ont enregistré une baisse de leur salaire net, 9,1% ont vu leur salaire stagner et 74,3% ont enregistré une augmentation de salaire.
A20: Unité : salaire en euros.
A21: Champ : France hors Mayotte, public + privé sous contrat. Agents fonctionnaires et assimilés titulaires en fonction au ministère de l'Éducation nationale en 2024.
A22: Source : Insee, Système d'information sur les agents des services publics (Siasp). Traitement DEPP.

Sheet 7.11
A1: 7.11 - Salaires mensuels moyens des fonctionnaires enseignants du secteur public
B3: Traitement indiciaire brut moyen | C3: Primes et indemnités | F3: Salaire brut moyen | G3: Salaire net moyen | H3: Salaire net moyen EQTP
C4: Moyenne | D4: dont heures sup. | E4: Part de primes (en %) (1)
A5: Ensemble | B5: 3090 | C5: 710 | D5: n.s. | E5: 18.3 | F5: 3860 | G5: 3120 | H5: 3210
A6: Moins de 30 ans | B6: 2180 | C6: 750 | D6: n.s. | E6: 25.3 | F6: 2960 | G6: 2400 | H6: 2470
A7: 50 ans ou plus | B7: 3680 | C7: 680 | D7: n.s. | E7: 15.4 | F7: 4400 | G7: 3550 | H7: 3610
A8: Premier degré | B8: 2960 | C8: 560 | D8: n.s. | E8: 15.7 | F8: 3580 | G8: 2880 | H8: 2960
A9: Moins de 30 ans | B9: 2170 | C9: 660 | D9: n.s. | E9: 23.2 | F9: 2850 | G9: 2290 | H9: 2350
A10: 50 ans ou plus | B10: 3550 | C10: 520 | D10: n.s. | E10: 12.6 | F10: 4110 | G10: 3290 | H10: 3340
A11: Second degré | B11: 3230 | C11: 850 | D11: 320 | E11: 20.5 | F11: 4140 | G11: 3370 | H11: 3450
A12: Moins de 30 ans | B12: 2200 | C12: 850 | D12: 200 | E12: 27.7 | F12: 3090 | G12: 2530 | H12: 2620
A13: 50 ans ou plus | B13: 3770 | C13: 800 | D13: 330 | E13: 17.3 | F13: 4610 | G13: 3740 | H13: 3810
A14: P. des écoles | B14: 2960 | C14: 560 | D14: n.s. | E14: 15.7 | F14: 3580 | G14: 2880 | H14: 2960
A15: Moins de 30 ans | B15: 2170 | C15: 660 | D15: n.s. | E15: 23.2 | F15: 2850 | G15: 2290 | H15: 2350
A16: 50 ans ou plus | B16: 3550 | C16: 520 | D16: n.s. | E16: 12.6 | F16: 4110 | G16: 3300 | H16: 3350
A17: Classe normale | B17: 2630 | C17: 580 | D17: n.s. | E17: 17.7 | F17: 3280 | G17: 2640 | H17: 2740
A18: Hors classe | B18: 3610 | C18: 440 | D18: n.s. | E18: 10.7 | F18: 4100 | G18: 3280 | H18: 3330
A19: Classe exceptionnelle | B19: 4060 | C19: 680 | D19: n.s. | E19: 14.1 | F19: 4780 | G19: 3850 | H19: 3880
A20: P. certifiés | B20: 3090 | C20: 770 | D20: 260 | E20: 19.7 | F20: 3920 | G20: 3180 | H20: 3270
A21: Moins de 30 ans | B21: 2160 | C21: 830 | D21: 180 | E21: 27.4 | F21: 3020 | G21: 2470 | H21: 2550
A22: 50 ans ou plus | B22: 3650 | C22: 710 | D22: 260 | E22: 16.1 | F22: 4400 | G22: 3560 | H22: 3640
A23: Classe normale | B23: 2620 | C23: 810 | D23: 250 | E23: 23.2 | F23: 3480 | G23: 2840 | H23: 2930
A24: Hors classe | B24: 3720 | C24: 680 | D24: 270 | E24: 15.3 | F24: 4450 | G24: 3590 | H24: 3680
A25: Classe exceptionnelle | B25: 4170 | C25: 830 | D25: 290 | E25: 16.4 | F25: 5050 | G25: 4080 | H25: 4170
A26: P. d'EPS | B26: 3080 | C26: 830 | D26: 270 | E26: 20.8 | F26: 3970 | G26: 3230 | H26: 3300
A27: Moins de 30 ans | B27: 2180 | C27: 910 | D27: 190 | E27: 29.1 | F27: 3120 | G27: 2560 | H27: 2650
A28: 50 ans ou plus | B28: 3810 | C28: 730 | D28: 260 | E28: 15.9 | F28: 4580 | G28: 3700 | H28: 3770
A29: Classe normale | B29: 2610 | C29: 870 | D29: 270 | E29: 24.7 | F29: 3540 | G29: 2900 | H29: 2970
A30: Hors classe | B30: 3720 | C30: 730 | D30: 270 | E30: 16.1 | F30: 4500 | G30: 3640 | H30: 3710
A31: Classe exceptionnelle | B31: 4170 | C31: 820 | D31: 270 | E31: 16.3 | F31: 5040 | G31: 4070 | H31: 4160
... A45: 50 ans ou plus | B45: 5020 | C45: 2390 | D45: 1970 | E45: 31.9 | F45: 7500 | G45: 6280 | H45: 6290
H46: Panorama statistique des personnels de l’enseignement scolaire 2026, DEPP
A47: 1. La part de primes dans le salaire brut correspond au total des primes et indemnités (hors IR, SFT) divisé par le salaire brut. Les rémunérations pour heures supplémentaires et la NBI sont comptabilisées dans les primes et indemnités (cf. "Définitions").
A48: Unité : salaire en euros.
A49: n.s. : non significatif.
A50: Champ : France hors Mayotte, public, enseignants fonctionnaires en fonction au ministère de l'Éducation nationale en 2024.
A51: Source : Insee, Système d'information sur les agents des services publics (Siasp). Traitement DEPP.

Sheet 7.12
A1: 7.12 - Salaires mensuels moyens des enseignants assimilés titulaires du privé sous contrat
B3: Traitement indiciaire brut moyen | C3: Primes et indemnités | F3: Salaire brut moyen | G3: Salaire net moyen | H3: Rapport salaire net moyen privé/public | I3: Salaire net moyen EQTP
C4: Moyenne | D4: dont heures sup. | E4: Part de primes (en %)(1)
A5: Ensemble | B5: 2910 | C5: 710 | D5: n.s. | E5: 19.3 | F5: 3670 | G5: 2870 | H5: 0.92 | I5: 3000
A6: Moins de 30 ans | B6: 2150 | C6: 710 | D6: n.s. | E6: 24.7 | F6: 2870 | G6: 2290 | H6: 0.95 | I6: 2380
A7: 50 ans ou plus | B7: 3270 | C7: 700 | D7: n.s. | E7: 17.4 | F7: 4000 | G7: 3120 | H7: 0.88 | I7: 3260
A8: Premier degré | B8: 2780 | C8: 520 | D8: n.s. | E8: 15.5 | F8: 3370 | G8: 2610 | H8: 0.91 | I8: 2770
A9: Moins de 30 ans | B9: 2140 | C9: 570 | D9: n.s. | E9: 21 | F9: 2740 | G9: 2170 | H9: 0.95 | I9: 2250
A10: 50 ans ou plus | B10: 3150 | C10: 520 | D10: n.s. | E10: 14.1 | F10: 3710 | G10: 2870 | H10: 0.87 | I10: 3030
A11: Second degré | B11: 2970 | C11: 810 | D11: 290 | E11: 21.1 | F11: 3830 | G11: 3010 | H11: 0.89 | I11: 3130
A12: Moins de 30 ans | B12: 2150 | C12: 810 | D12: 210 | E12: 27.2 | F12: 2970 | G12: 2380 | H12: 0.94 | I12: 2480
A13: 50 ans ou plus | B13: 3320 | C13: 780 | D13: 290 | E13: 18.8 | F13: 4130 | G13: 3230 | H13: 0.86 | I13: 3370
A14: P. des écoles | B14: 2780 | C14: 520 | D14: n.s. | E14: 15.5 | F14: 3370 | G14: 2610 | H14: 0.91 | I14: 2770
A15: Moins de 30 ans | B15: 2140 | C15: 570 | D15: n.s. | E15: 21 | F15: 2740 | G15: 2170 | H15: 0.95 | I15: 2250
A16: 50 ans ou plus | B16: 3160 | C16: 520 | D16: n.s. | E16: 14.1 | F16: 3710 | G16: 2870 | H16: 0.87 | I16: 3030
A17: Classe normale | B17: 2550 | C17: 520 | D17: n.s. | E17: 16.5 | F17: 3140 | G17: 2440 | H17: 0.92 | I17: 2580
A18: Hors classe | B18: 3450 | C18: 430 | D18: n.s. | E18: 11 | F18: 3920 | G18: 3030 | H18: 0.92 | I18: 3200
A19: Classe exceptionnelle | B19: 3770 | C19: 760 | D19: n.s. | E19: 16.7 | F19: 4560 | G19: 3530 | H19: 0.92 | I19: 3760
A20: P. certifiés | B20: 2910 | C20: 770 | D20: 260 | E20: 20.7 | F20: 3730 | G20: 2920 | H20: 0.92 | I20: 3050
A21: Moins de 30 ans | B21: 2140 | C21: 790 | D21: 200 | E21: 26.8 | F21: 2950 | G21: 2360 | H21: 0.96 | I21: 2460
A22: 50 ans ou plus | B22: 3260 | C22: 740 | D22: 270 | E22: 18.3 | F22: 4040 | G22: 3150 | H22: 0.88 | I22: 3300
A23: Classe normale | B23: 2580 | C23: 790 | D23: 260 | E23: 23 | F23: 3420 | G23: 2690 | H23: 0.95 | I23: 2800
A24: Hors classe | B24: 3560 | C24: 710 | D24: 260 | E24: 16.5 | F24: 4320 | G24: 3370 | H24: 0.94 | I24: 3530
A25: Classe exceptionnelle | B25: 3970 | C25: 820 | D25: 300 | E25: 17 | F25: 4830 | G25: 3770 | H25: 0.92 | I25: 4030
A26: P. d'EPS | B26: 2960 | C26: 760 | D26: 260 | E26: 20.2 | F26: 3770 | G26: 2960 | H26: 0.92 | I26: 3040
A27: Moins de 30 ans | B27: 2170 | C27: 860 | D27: 220 | E27: 28.2 | F27: 3040 | G27: 2440 | H27: 0.95 | I27: 2530
A28: 50 ans ou plus | B28: 3460 | C28: 660 | D28: 240 | E28: 15.8 | F28: 4160 | G28: 3240 | H28: 0.88 | I28: 3360
A29: Classe normale | B29: 2640 | C29: 800 | D29: 270 | E29: 22.9 | F29: 3490 | G29: 2750 | H29: 0.95 | I29: 2810
A30: Hors classe | B30: 3630 | C30: 690 | D30: 260 | E30: 15.8 | F30: 4370 | G30: 3400 | H30: 0.93 | I30: 3510
A31: Classe exceptionnelle | B31: 3940 | C31: 580 | D31: 190 | E31: 12.8 | F31: 4560 | G31: 3550 | H31: 0.87 | I31: 3880
... A42: Agrégés de classe exceptionnelle | B42: 4840 | C42: 1150 | D42: 630 | E42: 19.1 | F42: 6040 | G42: 4760 | H42: 0.95 | I42: 4990
I43: Panorama statistique des personnels de l’enseignement scolaire 2026, DEPP
A44: 1. La part de primes dans le salaire brut correspond au total des primes et indemnités (hors IR, SFT) divisé par le salaire brut. Les rémunérations pour heures supplémentaires sont comptabilisées dans les primes et indemnités (cf. "Définitions").
A45: Unité : salaire en euros.
A46: n.s. : non significatif.
A47: Champ : France hors Mayotte, privé sous contrat, enseignants assimilés titulaires en fonction au ministère de l'Éducation nationale en 2024.
A48: Source : Insee, Système d'information sur les agents des services publics (Siasp). Traitement DEPP.

Sheet 7.13
A1: 7.13 - Salaires mensuels moyens des enseignantes et des enseignants du secteur public
D3: Traitement indiciaire brut moyen | E3: Primes et indemnités | G3: Salaire brut moyen | H3: Salaire net moyen | I3: Salaire net moyen EQTP
E4: Moyenne | F4: dont heures sup.
A5: Ensemble | C5: Femmes | D5: 3030 | E5: 650 | F5: n.s. | G5: 3740 | H5: 3020 | I5: 3120
C6: Hommes | D6: 3250 | E6: 860 | F6: n.s. | G6: 4170 | H6: 3390 | I6: 3450
C7: Ratio F/H | D7: 0.93 | E7: 0.75 | F7: n.s. | G7: 0.9 | H7: 0.89 | I7: 0.91
A8: Enseignants du premier degré | B8: Ensemble 1er degré | C8: Femmes | D8: 2930 | E8: 540 | F8: n.s. | G8: 3540 | H8: 2850 | I8: 2940
C9: Hommes | D9: 3100 | E9: 660 | F9: n.s. | G9: 3830 | H9: 3070 | I9: 3110
C10: Ratio F/H | D10: 0.94 | E10: 0.82 | F10: n.s. | G10: 0.92 | H10: 0.93 | I10: 0.94
B11: Professeurs des écoles | C11: Femmes | D11: 2930 | E11: 540 | F11: n.s. | G11: 3540 | H11: 2850 | I11: 2940
C12: Hommes | D12: 3110 | E12: 660 | F12: n.s. | G12: 3830 | H12: 3080 | I12: 3110
C13: Ratio F/H | D13: 0.94 | E13: 0.82 | F13: n.s. | G13: 0.92 | H13: 0.93 | I13: 0.94
A14: Enseignants du second degré | B14: Ensemble 2d degré | C14: Femmes | D14: 3180 | E14: 790 | F14: 280 | G14: 4030 | H14: 3280 | I14: 3380
C15: Hommes | D15: 3300 | E15: 930 | F15: 380 | G15: 4290 | H15: 3500 | I15: 3560
C16: Ratio F/H | D16: 0.96 | E16: 0.85 | F16: 0.74 | G16: 0.94 | H16: 0.93 | I16: 0.95
B17: Professeurs agrégés et de chaire supérieure | C17: Femmes | D17: 3800 | E17: 960 | F17: 490 | G17: 4840 | H17: 3950 | I17: 4070
C18: Hommes | D18: 3890 | E18: 1220 | F18: 710 | G18: 5190 | H18: 4260 | I18: 4340
C19: Ratio F/H | D19: 0.98 | E19: 0.79 | F19: 0.7 | G19: 0.93 | H19: 0.93 | I19: 0.94
B20: Professeurs certifiés, d'EPS et de lycée professionnel | C20: Femmes | D20: 3080 | E20: 760 | F20: 250 | G20: 3890 | H20: 3160 | I20: 3260
C21: Hommes | D21: 3170 | E21: 870 | F21: 310 | G21: 4090 | H21: 3340 | I21: 3390
C22: Ratio F/H | D22: 0.97 | E22: 0.87 | F22: 0.8 | G22: 0.95 | H22: 0.95 | I22: 0.96
I23: Panorama statistique des personnels de l’enseignement scolaire 2026, DEPP
A24: Unité : salaire en euros.
A25: n.s. : non significatif.
A26: Champ : France hors Mayotte, public, fonctionnaires enseignants en fonction au ministère de l'Éducation nationale en 2024.
A27: Source : Insee, Système d'information sur les agents des services publics (Siasp). Traitement DEPP.

Sheet 7.14
A1: 7.14 - Salaires mensuels moyens des enseignantes et des enseignants du secteur privé sous contrat
D3: Traitement indiciaire brut moyen | E3: Primes et indemnités | G3: Salaire brut moyen | H3: Salaire net moyen | I3: Salaire net moyen EQTP
E4: Moyenne | F4: dont heures sup.
A5: Ensemble | C5: Femmes | D5: 2860 | E5: 650 | F5: n.s. | G5: 3570 | H5: 2790 | I5: 2940
C6: Hommes | D6: 3040 | E6: 890 | F6: n.s. | G6: 3980 | H6: 3120 | I6: 3210
C7: Ratio F/H | D7: 0.94 | E7: 0.74 | F7: n.s. | G7: 0.9 | H7: 0.89 | I7: 0.92
A8: Enseignants du premier degré | B8: Ensemble 1er degré | C8: Femmes | D8: 2770 | E8: 510 | F8: n.s. | G8: 3340 | H8: 2590 | I8: 2750
C9: Hommes | D9: 2960 | E9: 700 | F9: n.s. | G9: 3720 | H9: 2880 | I9: 2970
C10: Ratio F/H | D10: 0.93 | E10: 0.73 | F10: n.s. | G10: 0.9 | H10: 0.9 | I10: 0.93
B11: Professeurs des écoles | C11: Femmes | D11: 2770 | E11: 510 | F11: n.s. | G11: 3340 | H11: 2590 | I11: 2750
C12: Hommes | D12: 2960 | E12: 700 | F12: n.s. | G12: 3720 | H12: 2880 | I12: 2970
C13: Ratio F/H | D13: 0.93 | E13: 0.73 | F13: n.s. | G13: 0.9 | H13: 0.9 | I13: 0.93
A14: Enseignants du second degré | B14: Ensemble 2d degré | C14: Femmes | D14: 2930 | E14: 760 | F14: 260 | G14: 3740 | H14: 2930 | I14: 3070
C15: Hommes | D15: 3050 | E15: 910 | F15: 340 | G15: 4020 | H15: 3160 | I15: 3240
C16: Ratio F/H | D16: 0.96 | E16: 0.83 | F16: 0.77 | G16: 0.93 | H16: 0.93 | I16: 0.95
B17: Professeurs agrégés et de chaire supérieure | C17: Femmes | D17: 3750 | E17: 980 | F17: 490 | G17: 4820 | H17: 3780 | I17: 3890
C18: Hommes | D18: 4010 | E18: 1220 | F18: 710 | G18: 5310 | H18: 4190 | I18: 4250
C19: Ratio F/H | D19: 0.94 | E19: 0.8 | F19: 0.69 | G19: 0.91 | H19: 0.9 | I19: 0.91
B20: Professeurs certifiés, d'EPS et de lycée professionnel | C20: Femmes | D20: 2900 | E20: 750 | F20: 250 | G20: 3700 | H20: 2900 | I20: 3040
C21: Hommes | D21: 3000 | E21: 890 | F21: 320 | G21: 3940 | H21: 3100 | I21: 3180
C22: Ratio F/H | D22: 0.97 | E22: 0.84 | F22: 0.79 | G22: 0.94 | H22: 0.94 | I22: 0.96
I23: Panorama statistique des personnels de l’enseignement scolaire 2026, DEPP
A24: Unité : salaire en euros.
A25: n.s. : non significatif.
A26: Champ : France hors Mayotte, privé sous contrat, enseignants assimilés titulaires en fonction au ministère de l'Éducation nationale en 2024.
A27: Source : Insee, Système d'information sur les agents des services publics (Siasp). Traitement DEPP.

Sheet 7.15
A1: 7.15 - Répartition du salaire net mensuel des enseignants par degré, sexe et secteur
H3: 1er décile (D1) | I3: Médiane | J3: Moyenne | K3: 9e décile (D9) | M3: y-position | N3: dif
F4: 1er degré | G4: Enseignantes du public | H4: 2130 | I4: 2780 | J4: 2850 | K4: 3620 | M4: 1 | N4: =H4-K4 -> -1490 | O4: 1500
G5: Enseignants du public | H5: 2300 | I5: 3000 | J5: 3070 | K5: 3970 | M5: 2 | N5: =H5-K5 -> -1670 | O5: 1500
G6: Enseignantes du privé | H6: 1840 | I6: 2510 | J6: 2590 | K6: 3320 | M6: 3 | N6: =H6-K6 -> -1480 | O6: 1500
G7: Enseignants du privé | H7: 2240 | I7: 2680 | J7: 2880 | K7: 3850 | M7: 4 | N7: =H7-K7 -> -1610 | O7: 1500
F8: 2nd degré | G8: Enseignantes du public | H8: 2360 | I8: 3220 | J8: 3280 | K8: 4240 | M8: 5 | N8: =H8-K8 -> -1880 | O8: 1500
G9: Enseignants du public | H9: 2500 | I9: 3440 | J9: 3500 | K9: 4580 | M9: 6 | N9: =H9-K9 -> -2080 | O9: 1500
G10: Enseignantes du privé | H10: 2190 | I10: 2880 | J10: 2930 | K10: 3750 | M10: 7 | N10: =H10-K10 -> -1560 | O10: 1500
G11: Enseignants du privé | H11: 2390 | I11: 3050 | J11: 3160 | K11: 4080 | M11: 8 | N11: =H11-K11 -> -1690 | O11: 1500
C17: Panorama statistique des personnels de l’enseignement scolaire 2026, DEPP
A18: Unité : salaire en euros.
A19: Lecture : en 2024, les enseignantes fonctionnaires du public gagnent, en moyenne, 2850 euros nets par mois. La moitié d'entre elles gagne moins de 2780 euros mensuels nets (médiane). Les 10% les "moins bien rémunérées" perçoivent un salaire net mensuel de moins de 2130 euros (1er décile) et les 10% "les mieux rémunérées" perçoivent un salaire net mensuel d'au moins 3620 euros (9e décile).
A20: Champ : France hors Mayotte, public + privé sous contrat, enseignants fonctionnaires et assimilés en fonction au ministère de l'Éducation nationale en 2024.
A21: Source : Insee, Système d'information sur les agents des services publics (Siasp). Traitement DEPP.

Sheet 7.16
A1: 7.16 - Décomposition de l'évolution du salaire net mensuel moyen des enseignants entre 2023 et 2024, en euros constants (1)
A3: 2023 | F3: 2024
D5: 0.043
A6: 2023 | B6: 0.953 | C6: « présents-présents » | G6: 0.96 | H6: 2024
C7: 2960 | F7: 3120
D8: 0.052
A9: 2960 | B9: 0.047 | G9: 0.04 | H9: 3090
C10: Sortants | D10: -0.169 | F10: Entrants
C11: 2890 | F11: 2400
H13: Panorama statistique des personnels de l’enseignement scolaire 2026, DEPP
A14: 1. Les salaires nets 2023 ont été corrigés de la hausse des prix qui s'élève à 2,0 % entre 2023 et 2024 (après 4,8 % entre 2022 et 2023).
A15: Lecture : le salaire net moyen des enseignants fonctionnaires et assimilés de 2024 est en hausse de 4,3 % en euros constants par rapport au salaire net moyen des enseignants de 2023. Cette évolution résulte de l’évolution 2023-2024 du salaire net moyen des enseignants présents ces deux années-là (les « présents-présents ») et de la différence de salaire entre les sortants 2023 et les entrants 2024. Les présents-présents représentent 95,3 % de la population du ministère en 2023. Le salaire net moyen de ces présents-présents augmente de 5,2 % en 2024. Les sortants représentent 4,7 % de la population enseignante en 2023 et les entrants représentent 4,0 % de la population enseignante en 2024. L'écart de salaire entre les sortants 2023 et les entrants 2024 est égal à 16,9 %.
A16: Champ : France hors Mayotte, public + privé sous contrat, enseignants fonctionnaires et assimilés en fonction au ministère de l'Éducation nationale en 2023 et/ou en 2024, qu'ils soient à temps complet, partiel ou incomplet.
A17: Source : Insee, Système d'information sur les agents des services publics (Siasp). Traitement DEPP.

Sheet 7.17
A1: 7.17 - Évolution du salaire statutaire (brut mensuel) des enseignants à différents moments de la carrière, en euros constants (1)
N34: Panorama statistique des personnels de l’enseignement scolaire 2026, DEPP
A35: 1. Depuis la rentrée 1990, la hausse des prix (y.c. tabac) s'élève à 77 %. Il s'agit d'une donnée provisoire, l'inflation sur la période 2025-2026 étant calculée de septembre 2025 à mai 2026.
A36: Unité : salaire brut mensuel en euros constants.
A37: Source : DEPP. Traitement DEPP.
A39: Salaires bruts mensuels statutaires des enseignants à différents moments de la carrière, en euros constants 2024-2025
A41: Rentrée scolaire | B41: P. des écoles | F41: P. certifiés | J41: P. agrégés
B42: Début de carrière | C42: 10 ans de carrière | D42: 15 ans de carrière | E42: Fin de carrière | F42: Début de carrière | G42: 10 ans de carrière | H42: 15 ans de carrière | I42: Fin de carrière | J42: Début de carrière | K42: 10 ans de carrière | L42: 15 ans de carrière | M42: Fin de carrière
A43: 1990 | B43: 2550 | C43: 3210 | D43: 3450 | E43: 5100 | F43: 2690 | G43: 3350 | H43: 3590 | I43: 5240 | J43: 3240 | K43: 4270 | L43: 4590 | M43: 6410
A44: 1991 | B44: 2550 | C44: 3200 | D44: 3440 | E44: 5080 | F44: 2690 | G44: 3340 | H44: 3580 | I44: 5220 | J44: 3230 | K44: 4250 | L44: 4570 | M44: 6390
A45: 1992 | B45: 2570 | C45: 3230 | D45: 3470 | E45: 5130 | F45: 2710 | G45: 3370 | H45: 3610 | I45: 5270 | J45: 3260 | K45: 4290 | L45: 4620 | M45: 6450
A46: 1993 | B46: 2560 | C46: 3220 | D46: 3450 | E46: 5100 | F46: 2700 | G46: 3360 | H46: 3590 | I46: 5240 | J46: 3250 | K46: 4270 | L46: 4590 | M46: 6420
A47: 1994 | B47: 2570 | C47: 3230 | D47: 3470 | E47: 5120 | F47: 2710 | G47: 3370 | H47: 3610 | I47: 5270 | J47: 3260 | K47: 4290 | L47: 4610 | M47: 6450
A48: 1995 | B48: 2570 | C48: 3230 | D48: 3470 | E48: 5120 | F48: 2710 | G48: 3370 | H48: 3610 | I48: 5260 | J48: 3260 | K48: 4290 | L48: 4610 | M48: 6440
A49: 1996 | B49: 2550 | C49: 3200 | D49: 3440 | E49: 5080 | F49: 2680 | G49: 3340 | H49: 3580 | I49: 5220 | J49: 3230 | K49: 4250 | L49: 4570 | M49: 6390
A50: 1997 | B50: 2550 | C50: 3210 | D50: 3440 | E50: 5080 | F50: 2690 | G50: 3350 | H50: 3580 | I50: 5220 | J50: 3230 | K50: 4260 | L50: 4580 | M50: 6400
A51: 1998 | B51: 2580 | C51: 3230 | D51: 3470 | E51: 5130 | F51: 2720 | G51: 3380 | H51: 3610 | I51: 5270 | J51: 3260 | K51: 4290 | L51: 4620 | M51: 6450
A52: 1999 | B52: 2580 | C52: 3230 | D52: 3470 | E52: 5120 | F52: 2720 | G52: 3370 | H52: 3610 | I52: 5260 | J52: 3260 | K52: 4290 | L52: 4610 | M52: 6440
A53: 2000 | B53: 2550 | C53: 3200 | D53: 3430 | E53: 5060 | F53: 2690 | G53: 3340 | H53: 3570 | I53: 5200 | J53: 3230 | K53: 4240 | L53: 4560 | M53: 6370
A54: 2001 | B54: 2540 | C54: 3190 | D54: 3420 | E54: 5050 | F54: 2680 | G54: 3330 | H54: 3560 | I54: 5180 | J54: 3220 | K54: 4230 | L54: 4550 | M54: 6350
... A78: 2025 | B78: 2690 | C78: 2950 | D78: 3050 | E78: 4330 | F78: 2910 | G78: 3180 | H78: 3270 | I78: 4570 | J78: 3290 | K78: 3970 | L78: 4130 | M78: 5430
A79: Source : DEPP. Calculs DEPP.

Sheet 7.18
A1: 7.18 - Mise en regard de l'évolution du salaire brut statutaire des enseignants avec celles de la valeur du point d'indice, de l'inflation et du Smic, en euros constants (1)
B3: P. des écoles | F3: P. certifiés | J3: P. agrégés | N3: Valeur du point FP | O3: Inflation | Q3: Smic
B4: Début de carrière | C4: 10 ans de carrière | D4: 15 ans de carrière | E4: Fin de carrière | F4: Début de carrière | G4: 10 ans de carrière | H4: 15 ans de carrière | I4: Fin de carrière | J4: Début de carrière | K4: 10 ans de carrière | L4: 15 ans de carrière | M4: Fin de carrière | O4: Sur la période | P4: Moyenne annuelle
A5: R1990-R2000 | B5: -0.00098029479 | C5: -0.0045569098 | D5: -0.0048316917 | E5: -0.0060449593 | F5: -0.0013850272 | G5: -0.0047328518 | H5: -0.0049853957 | I5: -0.0061179146 | J5: -0.0046008624 | K5: -0.0055586494 | L5: -0.0057699088 | M5: -0.0065707752 | N5: 0.16289661 | O5: 0.17296894 | P5: 0.016081751 | Q5: 0.32650014
A6: R2001-R2010 | B6: -0.045509162 | C6: -0.080900819 | D6: -0.081026939 | E6: -0.08158464 | F6: -0.047424375 | G6: -0.080974379 | H6: -0.081090799 | I6: -0.081613609 | J6: -0.060669787 | K6: -0.081355284 | L6: -0.081452831 | M6: -0.081822999 | N6: 0.07032039 | O6: 0.16688933 | P6: 0.017296947 | Q6: 0.19985804
A7: R2011-R2016 | B7: 0.058529014 | C7: 0.03841368 | D7: 0.034573747 | E7: 0.016745035 | F7: 0.059212406 | G7: 0.039835557 | H7: 0.036051792 | I7: 0.021067053 | J7: 0.050597669 | K7: 0.042269738 | L7: 0.038067564 | M7: 0.020761563 | N7: 0.0095215384 | O7: 0.028261942 | P7: 0.005589552 | Q7: 0.058472073
A8: R2017-R2020 | B8: 0.0050761076 | C8: 0.0054547776 | D8: 0.0015933802 | E8: 0.0015108457 | F8: 0.04495231 | G8: 0.040251901 | H8: 0.034416967 | I8: 0.026738485 | J8: 0.051618969 | K8: 0.037663973 | L8: 0.032061764 | M8: 0.0088656068 | N8: 0 | O8: 0.030506406 | P8: 0.010067115 | Q8: 0.038276069
A9: R2021-R2022 | B9: -0.014710197 | C9: -0.019429234 | D9: -0.019130339 | E9: -0.023275433 | F9: -0.013719304 | G9: -0.018182912 | H9: -0.017963066 | I9: -0.022213321 | J9: -0.01461565 | K9: -0.01892507 | L9: -0.018782129 | M9: -0.022130921 | N9: 0.031569543 | O9: 0.055228905 | P9: 0.055228905 | Q9: 0.06152396
A10: R2022-R2023 | B10: 0.058946061 | C10: 0.046557758 | D10: 0.026697018 | E10: 0.013714117 | F10: 0.051374382 | G10: 0.040624357 | H10: 0.022472028 | I10: 0.011268566 | J10: 0.043137954 | K10: 0.028784378 | L10: 0.01423343 | M10: 0.0068695479 | N10: 0.012468742 | O10: 0.029189847 | P10: 0.029189847 | Q10: 0.028354003
A11: R2023-R2025 | B11: -0.016414834 | C11: -0.016685846 | D11: -0.016773615 | E11: -0.017562142 | F11: -0.016412522 | G11: -0.016664662 | H11: -0.016747068 | I11: -0.017498903 | J11: -0.016722857 | K11: -0.017186423 | L11: -0.017274685 | M11: -0.01777856 | N11: 0 | O11: 0.019825785 | P11: 0.009864241 | Q11: 0.030784467
A12: R1990-R2025 | B12: 0.05258661 | C12: -0.081443854 | D12: -0.11598121 | E12: -0.15103917 | F12: 0.080882157 | G12: -0.053124657 | H12: -0.088171545 | I12: -0.12676887 | J12: 0.015705984 | K12: -0.070077673 | L12: -0.099774324 | M12: -0.15308461 | N12: 0.34111473 | O12: 0.7655924 | P12: 0.016375091 | Q12: 1.2081681
Q13: Panorama statistique des personnels de l’enseignement scolaire 2026, DEPP
A14: 1. Depuis la rentrée 1990, la hausse des prix (y.c. tabac) s'élève à 77 %.
A15: Lecture : Entre les rentrées 2023 et 2025, le salaire brut statutaire des professeurs des écoles en début de carrière a baissé de 2 %, le point d'indice fonction publique est stable (0 %) et l'inflation a été de 2%.
A16: Note : les évolutions en euros constants présentées ici font référence aux années scolaires. Par exemple, « R1990-R2000 » correspond aux évolutions entre les années scolaires 1990-1991 et 2000-2001. Ainsi, entre la rentrée 1990 et la rentrée 2000, le salaire brut statutaire des professeurs des écoles de fin de carrière diminue de 1% en euros constants.
A17: Sources : DEPP ; DGAFP ; Insee ; ministère du Travail, de l'Emploi et de l'Insertion. Calculs DEPP.

Sheet 7.19
A1: 7.19 - Évolution de la valeur annuelle du point d'indice de la fonction publique et de l'indice des prix à la consommation entre les rentrées 1990 et 2025
I20: Panorama statistique des personnels de l’enseignement scolaire 2026, DEPP
A21: Sources : DGAFP ; Insee (pour les indices des prix). Calculs DEPP.
A23: Année scolaire | B23: Valeur du point d'indice de la fonction publique | C23: Indice des prix à la consommation (y.c. tabac)
A24: 1990-1991 | B24: 44.047984 | C24: 56.99
A25: 1991-1992 | B25: 45.092895 | C25: 58.530833
A26: 1992-1993 | B26: 46.436098 | C26: 59.720833
A27: 1993-1994 | B27: 47.056692 | C27: 60.809167
A28: 1994-1995 | B28: 48.059553 | C28: 61.824167
A29: 1995-1996 | B29: 49.042595 | C29: 63.126667
A30: 1996-1997 | B30: 49.278383 | C30: 63.973333
A31: 1997-1998 | B31: 49.793279 | C31: 64.583333
A32: 1998-1999 | B32: 50.356578 | C32: 64.798333
A33: 1999-2000 | B33: 50.846321 | C33: 65.655
A34: 2000-2001 | B34: 51.223251 | C34: 66.8475
A35: 2001-2002 | B35: 51.91296 | C35: 67.989167
... A59: 2025-2026 | B59: 59.0734 | C59: 100.62111

Sheet 7.20
A1: 7.20 - Rapport du salaire brut statutaire des enseignants au montant d'un SMIC brut (1) à temps plein, à différents moments de leur carrière
C3: Rentrée 1990 | D3: Rentrée 2000 | E3: Rentrée 2010 | F3: Rentrée 2012 | G3: Rentrée 2015 | H3: Rentrée 2020 | I3: Rentrée 2021 | J3: Rentrée 2022 | K3: Rentrée 2023 | L3: Rentrée 2024 | M3: Rentrée 2025
A4: P. des écoles | B4: Début de carrière | C4: 1.7605491 | D4: 1.5552543 | E4: 1.4092157 | F4: 1.4112715 | G4: 1.4017879 | H4: 1.4434246 | I4: 1.4668532 | J4: 1.4367047 | K4: 1.5226294 | L4: 1.4970188 | M4: 1.4817137
B5: 10 ans de carrière | C5: 2.2153201 | D5: 1.9499889 | E5: 1.7013702 | F5: 1.6170819 | G5: 1.6028939 | H5: 1.6650626 | I5: 1.6380918 | J5: 1.5967394 | K5: 1.6724383 | L5: 1.6438549 | M5: 1.6270486
B6: 15 ans de carrière | C6: 2.3774167 | D6: 2.0920933 | E6: 1.8251062 | F6: 1.7346879 | G6: 1.7178116 | H6: 1.7719369 | I6: 1.7242099 | J6: 1.6811959 | K6: 1.7274818 | L6: 1.6978061 | M6: 1.6804482
B7: Fin de carrière | C7: 3.5120928 | D7: 3.0868245 | E7: 2.6912584 | F7: 2.5579296 | G7: 2.5222357 | H7: 2.5614618 | I7: 2.4899545 | J7: 2.4175775 | K7: 2.4527244 | L7: 2.4086568 | M7: 2.3840313
A8: P. certifiés, d'EPS et de lycée professionnel | B8: Début de carrière | C8: 1.856965 | D8: 1.6397627 | E8: 1.4828061 | F8: 1.481216 | G8: 1.5209507 | H8: 1.5801601 | I8: 1.5986067 | J8: 1.5673249 | K8: 1.6491846 | L8: 1.6214492 | M8: 1.6048719
B9: 10 ans de carrière | C9: 2.311736 | D9: 2.0344973 | E9: 1.7749605 | F9: 1.6870265 | G9: 1.7220567 | H9: 1.8017981 | I9: 1.7698452 | J9: 1.7273596 | K9: 1.7989935 | L9: 1.7682852 | M9: 1.7502068
B10: 15 ans de carrière | C10: 2.4738326 | D10: 2.1766017 | E10: 1.8986966 | F10: 1.8046324 | G10: 1.8369745 | H10: 1.9086724 | I10: 1.8559634 | J10: 1.8118161 | K10: 1.854037 | L10: 1.8222364 | M10: 1.8036064
B11: Fin de carrière | C11: 3.6085087 | D11: 3.1713329 | E11: 2.7648487 | F11: 2.6278741 | G11: 2.6487578 | H11: 2.7117978 | I11: 2.6347764 | J11: 2.5609716 | K11: 2.5919351 | L11: 2.5455302 | M11: 2.5195054
A12: P. agrégés | B12: Début de carrière | C12: 2.2351904 | D12: 1.9673924 | E12: 1.7543379 | F12: 1.6674255 | G12: 1.7345475 | H12: 1.8144345 | I12: 1.8246923 | J12: 1.7873606 | K12: 1.8659791 | L12: 1.8340189 | M12: 1.8152684
B13: 10 ans de carrière | C13: 2.9421116 | D13: 2.5871257 | E13: 2.2561562 | F13: 2.144383 | G13: 2.2006028 | H13: 2.2890863 | I13: 2.2404673 | J13: 2.1850313 | K13: 2.2497532 | L13: 2.2101772 | M13: 2.187581
B14: 15 ans de carrière | C14: 3.1627431 | D14: 2.7805456 | E14: 2.4245746 | F14: 2.3044577 | G14: 2.3570186 | H14: 2.4355893 | I14: 2.3648863 | J14: 2.3067079 | K14: 2.3414418 | L14: 2.3000464 | M14: 2.2765313
B15: Fin de carrière | C15: 4.4189917 | D15: 3.8818552 | E15: 3.3835288 | F15: 3.2159039 | G15: 3.2581548 | H15: 3.2539117 | I15: 3.1436222 | J15: 3.0558212 | K15: 3.0793142 | L15: 3.0233226 | M15: 2.992413
M16: Panorama statistique des personnels de l’enseignement scolaire 2026, DEPP
A17: 1. Pour les rentrées antérieures à 2005, le SMIC de référence est celui à 169h ; à partir de la rentrée 2005, avec le passage aux 35h, le SMIC de référence est celui à 151,67h.
A18: Sources : DEPP ; ministère du Travail, de l'Emploi et de l'Insertion. Calculs DEPP.

Sheet 7.21
A1: 7.21 - Salaires mensuels moyens des personnels non enseignants
B3: Traitement indiciaire brut moyen | C3: Primes et indemnités | E3: Salaire brut moyen | F3: Salaire net moyen | G3: Salaire net moyen EQTP
C4: Moyenne | D4: Part de primes (en %) (1)
A5: Ensemble | B5: 2870 | C5: 940 | D5: 24.3 | E5: 3860 | F5: 3140 | G5: 3210
A6: Moins de 30 ans | B6: 2030 | C6: 740 | D6: 26.6 | E6: 2800 | F6: 2290 | G6: 2340
A7: 50 ans ou plus | B7: 3170 | C7: 990 | D7: 23.5 | E7: 4190 | F7: 3410 | G7: 3460
A8: Femmes | B8: 2720 | C8: 850 | D8: 23.6 | E8: 3620 | F8: 2950 | G8: 3030
A9: Hommes | B9: 3370 | C9: 1210 | D9: 26 | E9: 4630 | F9: 3780 | G9: 3800
A10: Ratio F/H | B10: 0.81 | C10: 0.71 | D10: - | E10: 0.78 | F10: 0.78 | G10: 0.8
A11: Catégorie A | B11: 3450 | C11: 1130 | D11: 24.4 | E11: 4640 | F11: 3780 | G11: 3850
A12: Moins de 30 ans | B12: 2150 | C12: 810 | D12: 27.2 | E12: 2990 | F12: 2450 | G12: 2520
A13: 50 ans ou plus | B13: 3870 | C13: 1210 | D13: 23.6 | E13: 5130 | F13: 4170 | G13: 4230
A14: Femmes | B14: 3280 | C14: 1020 | D14: 23.4 | E14: 4360 | F14: 3540 | G14: 3630
A15: Hommes | B15: 3890 | C15: 1420 | D15: 26.4 | E15: 5380 | F15: 4390 | G15: 4400
A16: Ratio F/H | B16: 0.84 | C16: 0.72 | D16: - | E16: 0.81 | F16: 0.81 | G16: 0.83
A17: Catégorie B | B17: 2160 | C17: 820 | D17: 27.1 | E17: 3020 | F17: 2470 | G17: 2520
A18: Moins de 30 ans | B18: 1820 | C18: 750 | D18: 28.8 | E18: 2600 | F18: 2130 | G18: 2150
A19: 50 ans ou plus | B19: 2300 | C19: 830 | D19: 26.3 | E19: 3150 | F19: 2570 | G19: 2610
A20: Femmes | B20: 2150 | C20: 810 | D20: 26.9 | E20: 3000 | F20: 2450 | G20: 2510
A21: Hommes | B21: 2210 | C21: 860 | D21: 27.6 | E21: 3110 | F21: 2540 | G21: 2560
A22: Ratio F/H | B22: 0.97 | C22: 0.94 | D22: - | E22: 0.96 | F22: 0.96 | G22: 0.98
A23: Catégorie C | B23: 1950 | C23: 540 | D23: 21.2 | E23: 2520 | F23: 2050 | G23: 2110
A24: Moins de 30 ans | B24: 1780 | C24: 530 | D24: 22.7 | E24: 2340 | F24: 1900 | G24: 1940
A25: 50 ans ou plus | B25: 2030 | C25: 540 | D25: 20.8 | E25: 2590 | F25: 2090 | G25: 2140
A26: Femmes | B26: 1940 | C26: 530 | D26: 21.3 | E26: 2510 | F26: 2040 | G26: 2110
A27: Hommes | B27: 2000 | C27: 550 | D27: 21.1 | E27: 2580 | F27: 2100 | G27: 2120
A28: Ratio F/H | B28: 0.97 | C28: 0.98 | D28: - | E28: 0.97 | F28: 0.97 | G28: 0.99
G29: Panorama statistique des personnels de l’enseignement scolaire 2026, DEPP
A30: 1. La part de primes dans le salaire brut correspond au total des primes et indemnités (hors IR, SFT) divisé par le salaire brut. Les rémunérations pour heures supplémentaires et la NBI sont comptabilisées dans les primes et indemnités (cf. "Définitions").
A31: Unité : salaire en euros.
A32: Champ : France hors Mayotte, Public, fonctionnaires non enseignants en fonction au ministère de l'Éducation nationale en 2024.
A33: Source : Insee, Système d'information sur les agents des services publics (Siasp). Traitement DEPP.

Sheet 7.22
A1: 7.22 - Salaires mensuels moyens des personnels non enseignants de catégorie A
C3: Traitement indiciaire brut moyen | D3: Primes et indemnités | F3: Salaire brut moyen | G3: Salaire net moyen | H3: Salaire net moyen EQTP
D4: Moyenne | E4: Part de primes (en %) (2) | J4: libel | K4: Traitement indiciaire brut | L4: Primes et indemnités - Montant | M4: Primes et indemnités - Dont IMP | N4: Part de primes (en %) | O4: Salaire brut | P4: Salaire net | Q4: Salaire net EQTP
A5: Personnels d'encadrement | B5: Ensemble | C5: 4510 | D5: 1520 | E5: 24.9 | F5: 6100 | G5: 4960 | H5: 4960 | J5: P. d'encadrement - Ensemble | K5: 4510 | L5: 1520 | M5: - | N5: 24.9 | O5: 6100 | P5: 4960 | Q5: 4960
B6: 50 ans ou plus | C6: 4720 | D6: 1600 | E6: 25.1 | F6: 6380 | G6: 5190 | H6: 5190 | J6: 50 ans ou plus | K6: 4720 | L6: 1600 | M6: - | N6: 25.1 | O6: 6380 | P6: 5190 | Q6: 5190
B7: Femmes | C7: 4410 | D7: 1420 | E7: 24.1 | F7: 5900 | G7: 4800 | H7: 4800 | J7: Femmes | K7: 4410 | L7: 1420 | M7: - | N7: 24.1 | O7: 5900 | P7: 4800 | Q7: 4800
B8: Hommes | C8: 4630 | D8: 1640 | E8: 25.8 | F8: 6340 | G8: 5160 | H8: 5160 | J8: Hommes | K8: 4630 | L8: 1640 | M8: - | N8: 25.8 | O8: 6340 | P8: 5160 | Q8: 5160
