Workbook
Name IDX: '6.6'!#REF!

Sheet Table des matières
A1: Table des matières
A3: 6.1 – Ancienneté en tant qu'enseignants fonctionnaires en activité dans le secteur public
A4: 6.2 - Part des enseignants fonctionnaires ayant moins de 5 ans d'ancienneté dans le premier degré public
A5: 6.3 - Part des enseignants fonctionnaires ayant moins de 5 ans d'ancienneté dans le second degré public
A6: 6.4 - Ancienneté en tant que fonctionnaires des personnes relevant de la vie scolaire en activité
A7: 6.5 - Ancienneté en tant que fonctionnaires des personnels d'encadrement en activité
A8: 6.6 - Répartition des enseignants fonctionnaires du secteur public, par corps et grade
A9: 6.7 - Répartition des enseignants fonctionnaires dans les grades selon l'ancienneté, par corps et sexe
A10: 6.8 - Indice moyen des enseignants fonctionnaires selon l'ancienneté, par corps et sexe
A11: 6.9 - Taux de mobilité des enseignants des premier et second degrés publics selon la classe d'âge (en %)
A12: 6.10 - Taux de migration nette des enseignants fonctionnaires du premier degré public par département (en %)
A13: 6.11 - Taux de migration nette des enseignants fonctionnaires du second degré public par académie (en %)
A14: 6.12 - Répartition des enseignants en fonction de leur ancienneté dans l'établissement

Sheet 6.1
A1: 6.1 – Ancienneté en tant qu'enseignants fonctionnaires en activité dans le secteur public
A17: Panorama statistique des personnels de l’enseignement scolaire 2026, DEPP
A18: ► Note : une ancienneté de zéro en tant que fonctionnaires en activité correspond à l'année de stage.
A19: ► Lecture : à la rentrée 2025, 10 827 enseignantes du premier degré public ont onze ans d'ancienneté.
A20: ► Champ : France, personnels fonctionnaires appartenant à un corps enseignant du secteur public, rémunérés au titre de l'éducation nationale, en activité au 30 novembre 2025.
A21: ► Source : DEPP, Panel des personnels issu de BSA, novembre 2025.

Sheet 6.2
A1: 6.2 - Part des enseignants fonctionnaires ayant moins de 5 ans d'ancienneté dans le premier degré public
K3: Zoom sur l'Ile-de-France
A27: Panorama statistique des personnels de l’enseignement scolaire 2026, DEPP
A28: ► Note : Le zonage utilisé dans cette figure est celui des aires Collèges construites à partir des trajets domicile-établissement des collégiens (Aires d'éducation de la Depp, 2022 : https://www.education.gouv.fr/sites/default/files/document/Poster%20&quot;Les%20aires%20d&%23039;%C3%A9ducation,%20deux%20zonages%20pour%20les%20%C3%A9tudes%20et%20le%20pilotage&quot;-327051.pdf)
A29: ► Lecture : à la rentrée 2025, dans le bassin d'éducation de Carhaix-Plouguer dans le Centre-Bretagne, 9 % des enseignants du premier degré public ont moins de 5 ans d'ancienneté.
A30: ► Champ : France, personnels fonctionnaires appartenant à un corps enseignant du secteur public, rémunérés au titre de l'éducation nationale, en activité au 30 novembre 2025.
A31: ► Source : DEPP, Panel des personnels issu de BSA, novembre 2025.

Sheet 6.3
A1: 6.3 - Part des enseignants fonctionnaires ayant moins de 5 ans d'ancienneté dans le second degré public
K4: Zoom sur l'Ile-de-France
A27: Panorama statistique des personnels de l’enseignement scolaire 2026, DEPP
A28: ► Note : Le zonage utilisé dans cette figure est celui des aires Collèges construites à partir des trajets domicile-établissement des collégiens (Aires d'éducation de la Depp, 2022 : https://www.education.gouv.fr/sites/default/files/document/Poster%20&quot;Les%20aires%20d&%23039;%C3%A9ducation,%20deux%20zonages%20pour%20les%20%C3%A9tudes%20et%20le%20pilotage&quot;-327051.pdf)
A29: ► Lecture : à la rentrée 2025, dans le bassin d'éducation de Carhaix-Plouguer dans le Centre-Bretagne, 8 % des enseignants du second degré public ont moins de 5 ans d'ancienneté.
A30: ► Champ : France, personnels fonctionnaires appartenant à un corps enseignant du secteur public, rémunérés au titre de l'éducation nationale, en activité au 30 novembre 2025.
A31: ► Source : DEPP, Panel des personnels issu de BSA, novembre 2025.

Sheet 6.4
A1: 6.4 - Ancienneté en tant que fonctionnaires des personnes relevant de la vie scolaire en activité
A22: Panorama statistique des personnels de l’enseignement scolaire 2026, DEPP
A23: ► Note : une ancienneté de zéro en tant que fonctionnaires en activité correspond à l'année de stage.
A24: ► Lecture : à la rentrée 2025, 2430 conseillers principaux d'éducation ont moins de 5 ans d'ancienneté dont 1883 femmes ; 975 psychologues de l'Éducation nationale ont moins de 5 ans d'ancienneté dont 868 femmes.
A25: ► Champ : France, personnels fonctionnaires non enseignants, rémunérés au titre de l'éducation nationale, en activité au 30 novembre 2025.
A26: ► Source : DEPP, Panel des personnels issu de BSA, novembre 2025.
A29: 01-Conseiller principal d'éducation | E29: 02-Psychologues EN, conseillers d'orientation psychologue
B30: Hommes | C30: Femmes | F30: Hommes | G30: Femmes
A31: 0 - 5 ans | B31: -555 | C31: 1883 | E31: 0 - 5 ans | F31: -107 | G31: 868
A32: 5-10 ans | B32: -356 | C32: 1297 | E32: 5-10 ans | F32: -70 | G32: 882
A33: 10 -15 ans | B33: -357 | C33: 1339 | E33: 10 -15 ans | F33: -59 | G33: 447
A34: 15 -20 ans | B34: -160 | C34: 697 | E34: 15 -20 ans | F34: -43 | G34: 382
A35: 20 -25 ans | B35: -640 | C35: 1860 | E35: 20 -25 ans | F35: -161 | G35: 1030
A36: 25 -30 ans | B36: -550 | C36: 1337 | E36: 25 -30 ans | F36: -133 | G36: 965
A37: 30 -35 ans | B37: -221 | C37: 664 | E37: 30 -35 ans | F37: -140 | G37: 951
A38: 35 ans ou plus | B38: -46 | C38: 122 | E38: 35 ans ou plus | F38: -46 | G38: 30
A39: Ensemble | B39: 2885 | C39: 9199 | E39: Ensemble | F39: -759 | G39: 5834
A40: Ancienneté moyenne | B40: 16.7 | C40: 15.5 | E40: Ancienneté moyenne | F40: 20.4 | G40: 18.9

Sheet 6.5
A1: 6.5 - Ancienneté en tant que fonctionnaires des personnels d'encadrement en activité
A16: Panorama statistique des personnels de l’enseignement scolaire 2026, DEPP
A17: ► Note : une ancienneté de zéro en tant que fonctionnaires en activité correspond à l'année de stage.
A18: ► Lecture : à la rentrée 2025, 163 personnels de direction ont moins de 5 ans d'ancienneté dont 99 femmes, 3 personnels d'inspection ont moins de 5 ans d'ancienneté dont 2 femmes et 107 personnels d'encadrement supérieur ont moins de 5 ans d'ancienneté dont 47 femmes.
A19: ► Champ : France, personnels fonctionnaires non enseignants, rémunérés au titre de l'éducation nationale, en activité au 30 novembre 2025.
A20: ► Source : DEPP, Panel des personnels issu de BSA, novembre 2025.
A23: 01-Personnels de direction | E23: 02-Personnels d'inspection | I23: 03-Personnels d'encadrement supérieur
B24: Hommes | C24: Femmes | F24: Hommes | G24: Femmes | J24: Hommes | K24: Femmes
A25: 0 - 5 ans | B25: -64 | C25: 99 | E25: 0 - 5 ans | F25: -1 | G25: 2 | H25: =-F25+G25 -> 3 | I25: 0 - 5 ans | J25: -60 | K25: 47
A26: 5-10 ans | B26: -189 | C26: 213 | E26: 5-10 ans | F26: -12 | G26: 18 | I26: 5-10 ans | J26: -52 | K26: 47
A27: 10 -15 ans | B27: -420 | C27: 584 | E27: 10 -15 ans | F27: -57 | G27: 76 | I27: 10 -15 ans | J27: -71 | K27: 44
A28: 15 -20 ans | B28: -583 | C28: 909 | E28: 15 -20 ans | F28: -155 | G28: 201 | I28: 15 -20 ans | J28: -121 | K28: 74
A29: 20 -25 ans | B29: -1404 | C29: 2073 | E29: 20 -25 ans | F29: -336 | G29: 486 | I29: 20 -25 ans | J29: -188 | K29: 144
A30: 25 -30 ans | B30: -1671 | C30: 1988 | E30: 25 -30 ans | F30: -503 | G30: 523 | I30: 25 -30 ans | J30: -169 | K30: 126
A31: 30 -35 ans | B31: -1190 | C31: 1389 | E31: 30 -35 ans | F31: -318 | G31: 426 | I31: 30 -35 ans | J31: -78 | K31: 72
A32: 35 ans ou plus | B32: -432 | C32: 420 | E32: 35 ans ou plus | F32: -192 | G32: 258 | I32: 35 ans ou plus | J32: -79 | K32: 59
A33: Ensemble | B33: -5953 | C33: 7675 | E33: Ensemble | F33: -1574 | G33: 1990 | I33: Ensemble | J33: -818 | K33: 613
A34: Ancienneté moyenne | B34: 24.6 | C34: 23.9 | E34: Ancienneté moyenne | F34: 26.5 | G34: 26.5 | I34: Ancienneté moyenne | J34: 21.6 | K34: 21.7

Sheet 6.6
A1: 6.6 - Répartition des enseignants fonctionnaires du secteur public, par corps et grade
E3: Effectifs | F3: Répartition par grade (en %) | G3: Age moyen
A4: Premier degré (1) | C4: Femmes | D4: Classe normale | E4: 188678 | F4: 64 | G4: 39.3
D5: Hors classe | E5: 67284 | F5: 22.8 | G5: 51.5
D6: Classe excep, | E6: 38856 | F6: 13.2 | G6: 56
D7: Ensemble | E7: 294818 | F7: 100 | G7: 44.3
C8: Hommes | D8: Classe normale | E8: 30477 | F8: 59.8 | G8: 40.6
D9: Hors classe | E9: 11478 | F9: 22.5 | G9: 52.4
D10: Classe excep, | E10: 8984 | F10: 17.6 | G10: 57
D11: Ensemble | E11: 50939 | F11: 100 | G11: 46.1
C12: Ensemble | D12: Classe normale | E12: 219155 | F12: 63.4 | G12: 39.5
D13: Hors classe | E13: 78762 | F13: 22.8 | G13: 51.6
D14: Classe excep, | E14: 47840 | F14: 13.8 | G14: 56.1
D15: Ensemble | E15: 345757 | F15: 100 | G15: 44.5
A16: Second degré | B16: dont Professeurs agrégés | C16: Femmes | D16: Classe normale | E16: 17777 | F16: 59.2 | G16: 40.9
D17: Hors classe | E17: 9042 | F17: 30.1 | G17: 53.8
D18: Classe excep, | E18: 3214 | F18: 10.7 | G18: 58
D19: Ensemble | E19: 30033 | F19: 100 | G19: 46.6
C20: Hommes | D20: Classe normale | E20: 14501 | F20: 57.3 | G20: 40.2
D21: Hors classe | E21: 7911 | F21: 31.2 | G21: 54.3
D22: Classe excep, | E22: 2915 | F22: 11.5 | G22: 58.6
D23: Ensemble | E23: 25327 | F23: 100 | G23: 46.7
C24: Ensemble | D24: Classe normale | E24: 32278 | F24: 58.3 | G24: 40.6
D25: Hors classe | E25: 16953 | F25: 30.6 | G25: 54
D26: Classe excep, | E26: 6129 | F26: 11.1 | G26: 58.3
D27: Ensemble | E27: 55360 | F27: 100 | G27: 46.6
B28: dont Professeurs certifiés | C28: Femmes | D28: Classe normale | E28: 76843 | F28: 56.1 | G28: 39.8
D29: Hors classe | E29: 43979 | F29: 32.1 | G29: 53.4
D30: Classe excep, | E30: 16110 | F30: 11.8 | G30: 57.2
D31: Ensemble | E31: 136958 | F31: 100 | G31: 46.2
C32: Hommes | D32: Classe normale | E32: 39957 | F32: 54.3 | G32: 39.9
D33: Hors classe | E33: 23746 | F33: 32.2 | G33: 54.6
D34: Classe excep, | E34: 9928 | F34: 13.5 | G34: 57.8
D35: Ensemble | E35: 73661 | F35: 100 | G35: 47
C36: Ensemble | D36: Classe normale | E36: 116800 | F36: 55.5 | G36: 39.8
D37: Hors classe | E37: 67725 | F37: 32.2 | G37: 53.8
D38: Classe excep, | E38: 26038 | F38: 12.4 | G38: 57.4
D39: Ensemble | E39: 210619 | F39: 100 | G39: 46.5
B40: dont PEPS | C40: Femmes | D40: Classe normale | E40: 5543 | F40: 50.1 | G40: 35.8
D41: Hors classe | E41: 4007 | F41: 36.2 | G41: 52.1
D42: Classe excep, | E42: 1505 | F42: 13.6 | G42: 56.8
D43: Ensemble | E43: 11055 | F43: 100 | G43: 44.6
C44: Hommes | D44: Classe normale | E44: 9587 | F44: 60.2 | G44: 35.5
D45: Hors classe | E45: 4623 | F45: 29 | G45: 52.6
D46: Classe excep, | E46: 1712 | F46: 10.8 | G46: 57
D47: Ensemble | E47: 15922 | F47: 100 | G47: 42.8
C48: Ensemble | D48: Classe normale | E48: 15130 | F48: 56.1 | G48: 35.6
D49: Hors classe | E49: 8630 | F49: 32 | G49: 52.3
D50: Classe excep, | E50: 3217 | F50: 11.9 | G50: 56.9
D51: Ensemble | E51: 26977 | F51: 100 | G51: 43.5
B52: dont PLP | C52: Femmes | D52: Classe normale | E52: 14746 | F52: 55.6 | G52: 44
D53: Hors classe | E53: 8565 | F53: 32.3 | G53: 55
D54: Classe excep, | E54: 3223 | F54: 12.1 | G54: 57.9
D55: Ensemble | E55: 26534 | F55: 100 | G55: 49.3
C56: Hommes | D56: Classe normale | E56: 12904 | F56: 50.6 | G56: 45.4
D57: Hors classe | E57: 9248 | F57: 36.3 | G57: 55.1
D58: Classe excep, | E58: 3344 | F58: 13.1 | G58: 57.8
D59: Ensemble | E59: 25496 | F59: 100 | G59: 50.5
C60: Ensemble | D60: Classe normale | E60: 27650 | F60: 53.1 | G60: 44.7
D61: Hors classe | E61: 17813 | F61: 34.2 | G61: 55.1
D62: Classe excep, | E62: 6567 | F62: 12.6 | G62: 57.9
D63: Ensemble | E63: 52030 | F63: 100 | G63: 49.9
B64: Ensemble second degré | C64: Femmes | D64: Classe normale | E64: 114909 | F64: 56.2 | G64: 40.3
D65: Hors classe | E65: 65593 | F65: 32.1 | G65: 53.6
D66: Classe excep, | E66: 24052 | F66: 11.8 | G66: 57.4
D67: Ensemble | E67: 204580 | F67: 100 | G67: 46.6
C68: Hommes | D68: Classe normale | E68: 76949 | F68: 54.8 | G68: 40.3
D69: Hors classe | E69: 45528 | F69: 32.4 | G69: 54.4
D70: Classe excep, | E70: 17899 | F70: 12.7 | G70: 57.8
D71: Ensemble | E71: 140406 | F71: 100 | G71: 47.1
C72: Ensemble | D72: Classe normale | E72: 191858 | F72: 55.6 | G72: 40.3
D73: Hors classe | E73: 111121 | F73: 32.2 | G73: 53.9
D74: Classe excep, | E74: 41951 | F74: 12.2 | G74: 57.6
D75: Ensemble | E75: 344986 | F75: 100 | G75: 46.8
A76: Panorama statistique des personnels de l’enseignement scolaire 2026, DEPP
A77: 1. Professeurs des écoles uniquement. Les instituteurs (451 individus) ne sont pas inclus dans cette figure car ce corps n'a pas de classe.
A78: ► Lecture : à la rentrée 2025, 9 042 femmes sont des professeures agrégées hors-classe, Leur âge moyen est de 54 ans et elles représentent 30 % des professeures agrégées.
A79: ► Champ : France, personnels fonctionnaires appartenant à un corps enseignant du secteur public, rémunérés au titre de l'éducation nationale, en activité au 30 novembre 2025.
A80: ► Source : DEPP, Panel des personnels issu de BSA, novembre 2025.

Sheet 6.7
A1: 6.7 - Répartition des enseignants fonctionnaires dans les grades selon l'ancienneté, par corps et sexe
AF3: 0.11196499
AF5: -0.0044769568
AL6: 0.013720867 | AO6: 0.0097665505 | AR6: 0.013352819 | AU6: 0.048471995
AF7: 0.12559913
AL8: 0.013565723 | AO8: 0.010460145 | AR8: 0.056502333 | AU8: 0.073590272
AF9: 0.0043123853
AL10: 0.053099512 | AO10: 0.083926219 | AR10: 0.028815269 | AU10: -0.022897447
AF11: 0.012884615
A31: Panorama statistique des personnels de l’enseignement scolaire 2026, DEPP
A32: ► Lecture : à la rentrée 2025, parmi les hommes professeurs des écoles ayant 30 ans d'ancienneté, 1 % des hommes sont en classe normale, 32 % en hors classe et 67 % en classe exceptionnelle.
A33: ► Champ : France, personnels fonctionnaires appartenant à un corps enseignant du secteur public, rémunérés au titre de l'éducation nationale, en activité au 30 novembre 2025.
A34: ► Source : DEPP, Panel des personnels issu de BSA, novembre 2025.
A44: Corps | B44: Sexe | C44: Grade | D44: 15 | E44: 16 | F44: 17 | G44: 18 | H44: 19 | I44: 20 | J44: 21 | K44: 22 | L44: 23 | M44: 24 | N44: 25 | O44: 26 | P44: 27 | Q44: 28 | R44: 29 | S44: 30
A45: 1111-Professeurs des écoles | B45: hommes | C45: 1- classe normale | D45: 96.2 | E45: 96.1 | F45: 97.5 | G45: 93.9 | H45: 90 | I45: 79.3 | J45: 66.6 | K45: 50.5 | L45: 32.2 | M45: 20.7 | N45: 13.4 | O45: 7.4 | P45: 3.8 | Q45: 2.1 | R45: 1.5 | S45: 1.1
C46: 2- hors classe | D46: 2.8 | E46: 3.1 | F46: 1.8 | G46: 5.1 | H46: 8.3 | I46: 19.6 | J46: 31 | K46: 46.1 | L46: 61.9 | M46: 68.3 | N46: 69.7 | O46: 66.7 | P46: 59.2 | Q46: 48.2 | R46: 40 | S46: 31.9 | T46: =I46-I49 -> 4.5
C47: 3- classe excep, | D47: 0.9 | E47: 0.8 | F47: 0.7 | G47: 1 | H47: 1.7 | I47: 1.2 | J47: 2.3 | K47: 3.5 | L47: 5.9 | M47: 11 | N47: 16.9 | O47: 25.9 | P47: 37 | Q47: 49.7 | R47: 58.5 | S47: 67.1 | T47: =S47-S50 -> 10.7
B48: femmes | C48: 1- classe normale | D48: 98.7 | E48: 98.4 | F48: 98.3 | G48: 97 | H48: 92.6 | I48: 84.3 | J48: 68.8 | K48: 53.3 | L48: 32.6 | M48: 19.1 | N48: 13.5 | O48: 5.8 | P48: 2 | Q48: 1 | R48: 0.8 | S48: 0.4
C49: 2- hors classe | D49: 0.9 | E49: 1.3 | F49: 1.4 | G49: 2.6 | H49: 6.9 | I49: 15.1 | J49: 30.4 | K49: 44.8 | L49: 63.7 | M49: 74.3 | N49: 75.3 | O49: 78.1 | P49: 72.6 | Q49: 61 | R49: 53.1 | S49: 43.2
C50: 3- classe excep, | D50: 0.4 | E50: 0.2 | F50: 0.3 | G50: 0.4 | H50: 0.5 | I50: 0.6 | J50: 0.8 | K50: 1.8 | L50: 3.6 | M50: 6.6 | N50: 11.2 | O50: 16.1 | P50: 25.4 | Q50: 38.1 | R50: 46.1 | S50: 56.4
A51: 1122-Prof agrégés | B51: hommes | C51: 1- classe normale | D51: 95 | E51: 95.3 | F51: 94 | G51: 92.9 | H51: 89.3 | I51: 85.6 | J51: 74.1 | K51: 65.3 | L51: 57.8 | M51: 44.5 | N51: 35.3 | O51: 24.9 | P51: 15 | Q51: 10.4 | R51: 5 | S51: 3.6
C52: 2- hors classe | D52: 4.7 | E52: 4.1 | F52: 5.7 | G52: 7.1 | H52: 9.8 | I52: 13.6 | J52: 24.4 | K52: 32.5 | L52: 40.1 | M52: 52.1 | N52: 60.5 | O52: 68 | P52: 73.8 | Q52: 72.3 | R52: 72.2 | S52: 67 | T52: =I52-I55 -> 1.2
C53: 3- classe excep, | D53: 0.4 | E53: 0.5 | F53: 0.4 | G53: 0 | H53: 0.9 | I53: 0.8 | J53: 1.5 | K53: 2.2 | L53: 2.1 | M53: 3.4 | N53: 4.2 | O53: 7.1 | P53: 11.2 | Q53: 17.3 | R53: 22.9 | S53: 29.4 | T53: =S53-S56 -> 0.6
B54: femmes | C54: 1- classe normale | D54: 97.6 | E54: 96.6 | F54: 95.9 | G54: 94.3 | H54: 90.3 | I54: 87.4 | J54: 77.5 | K54: 65.8 | L54: 60.4 | M54: 46.1 | N54: 36.8 | O54: 25.9 | P54: 17.4 | Q54: 11.6 | R54: 7.3 | S54: 4.4
C55: 2- hors classe | D55: 2.3 | E55: 3.4 | F55: 3.9 | G55: 5.6 | H55: 9.3 | I55: 12.4 | J55: 22.1 | K55: 33.4 | L55: 38.5 | M55: 52.5 | N55: 60.9 | O55: 67.9 | P55: 71.4 | Q55: 71.6 | R55: 68.8 | S55: 66.8
C56: 3- classe excep, | D56: 0.1 | E56: 0 | F56: 0.2 | G56: 0.1 | H56: 0.4 | I56: 0.2 | J56: 0.4 | K56: 0.8 | L56: 1.1 | M56: 1.3 | N56: 2.3 | O56: 6.2 | P56: 11.2 | Q56: 16.8 | R56: 23.9 | S56: 28.8
A57: 1123-Prof certifiés | B57: hommes | C57: 1- classe normale | D57: 94.2 | E57: 93.9 | F57: 93.2 | G57: 89.7 | H57: 81.9 | I57: 69.8 | J57: 56.7 | K57: 43.2 | L57: 31.7 | M57: 21.7 | N57: 12.9 | O57: 5.9 | P57: 2 | Q57: 0.9 | R57: 0.3 | S57: 0.2
C58: 2- hors classe | D58: 4.8 | E58: 5.5 | F58: 5.4 | G58: 8.9 | H58: 16.6 | I58: 28.1 | J58: 40.4 | K58: 52.2 | L58: 62.2 | M58: 68 | N58: 74.4 | O58: 75.2 | P58: 74.6 | Q58: 73.4 | R58: 65 | S58: 60.4 | T58: =I58-I61 -> -3.6
C59: 3- classe excep, | D59: 0.9 | E59: 0.6 | F59: 1.4 | G59: 1.4 | H59: 1.6 | I59: 2.1 | J59: 2.9 | K59: 4.6 | L59: 6.1 | M59: 10.3 | N59: 12.7 | O59: 18.9 | P59: 23.4 | Q59: 25.7 | R59: 34.7 | S59: 39.4 | T59: =S59-S62 -> 3.1
B60: femmes | C60: 1- classe normale | D60: 97 | E60: 96.8 | F60: 95.6 | G60: 90.9 | H60: 83 | I60: 67 | J60: 52 | K60: 40.3 | L60: 27.5 | M60: 17.4 | N60: 10.7 | O60: 5 | P60: 1.9 | Q60: 0.4 | R60: 0.3 | S60: 0.2
C61: 2- hors classe | D61: 2.4 | E61: 2.9 | F61: 4.1 | G61: 8.5 | H61: 16.4 | I61: 31.7 | J61: 46.1 | K61: 55.9 | L61: 67 | M61: 74 | N61: 78.7 | O61: 79.9 | P61: 77.8 | Q61: 73.1 | R61: 69.5 | S61: 63.5
C62: 3- classe excep, | D62: 0.5 | E62: 0.3 | F62: 0.3 | G62: 0.5 | H62: 0.6 | I62: 1.3 | J62: 1.9 | K62: 3.8 | L62: 5.5 | M62: 8.5 | N62: 10.6 | O62: 15.2 | P62: 20.3 | Q62: 26.6 | R62: 30.2 | S62: 36.3
A63: 1124-PEPS | B63: hommes | C63: 1- classe normale | D63: 99 | E63: 97.7 | F63: 95.3 | G63: 96.8 | H63: 90.5 | I63: 75.7 | J63: 62.2 | K63: 48.9 | L63: 32.5 | M63: 21.8 | N63: 13.2 | O63: 5.4 | P63: 1.5 | Q63: 0.6 | R63: 0 | S63: 0.3
C64: 2- hors classe | D64: 1 | E64: 1.1 | F64: 3.6 | G64: 2.1 | H64: 8.5 | I64: 23 | J64: 35.7 | K64: 49.3 | L64: 62.1 | M64: 70.7 | N64: 78.5 | O64: 79.3 | P64: 76.3 | Q64: 70.7 | R64: 65.3 | S64: 59.3 | T64: =I64-I67 -> 3.5
C65: 3- classe excep, | D65: 0 | E65: 1.1 | F65: 1 | G65: 1.1 | H65: 0.9 | I65: 1.3 | J65: 2 | K65: 1.8 | L65: 5.4 | M65: 7.5 | N65: 8.3 | O65: 15.3 | P65: 22.2 | Q65: 28.7 | R65: 34.7 | S65: 40.4 | T65: =S65-S68 -> 4.7
B66: femmes | C66: 1- classe normale | D66: 98.6 | E66: 97.4 | F66: 96.5 | G66: 89.5 | H66: 89.3 | I66: 78.7 | J66: 66.4 | K66: 50.4 | L66: 30 | M66: 19.5 | N66: 15.9 | O66: 5.5 | P66: 3.6 | Q66: 0.9 | R66: 0 | S66: 0.3
C67: 2- hors classe | D67: 0.7 | E67: 2.6 | F67: 3.5 | G67: 9.1 | H67: 10.7 | I67: 19.5 | J67: 32.8 | K67: 48.8 | L67: 66.1 | M67: 75.3 | N67: 76 | O67: 82.4 | P67: 79.5 | Q67: 80.3 | R67: 74.7 | S67: 64
C68: 3- classe excep, | D68: 0.7 | E68: 0 | F68: 0 | G68: 1.4 | H68: 0 | I68: 1.7 | J68: 0.8 | K68: 0.8 | L68: 3.9 | M68: 5.2 | N68: 8.1 | O68: 12.1 | P68: 16.9 | Q68: 18.8 | R68: 25.3 | S68: 35.7
A69: 1125-PLP | B69: hommes | C69: 1- classe normale | D69: 79.1 | E69: 78 | F69: 74.2 | G69: 72.8 | H69: 63.7 | I69: 48.7 | J69: 37.8 | K69: 25.8 | L69: 15.8 | M69: 11.7 | N69: 6.2 | O69: 2.6 | P69: 2 | Q69: 0.3 | R69: 0.5 | S69: 0.1
C70: 2- hors classe | D70: 20.7 | E70: 20.1 | F70: 24.1 | G70: 25.2 | H70: 33.1 | I70: 48 | J70: 55.3 | K70: 65.8 | L70: 74.1 | M70: 74.5 | N70: 74.9 | O70: 73 | P70: 65.5 | Q70: 59.7 | R70: 55.1 | S70: 48.6 | T70: =I70-I73 -> 2.9
C71: 3- classe excep, | D71: 0.2 | E71: 1.9 | F71: 1.6 | G71: 2 | H71: 3.1 | I71: 3.4 | J71: 6.9 | K71: 8.4 | L71: 10.1 | M71: 13.8 | N71: 18.9 | O71: 24.5 | P71: 32.5 | Q71: 40 | R71: 44.4 | S71: 51.3 | T71: =S71-S74 -> 4.9
B72: femmes | C72: 1- classe normale | D72: 83.9 | E72: 85.2 | F72: 82.1 | G72: 76.8 | H72: 69.3 | I72: 51.5 | J72: 38.4 | K72: 28.3 | L72: 19.9 | M72: 10.6 | N72: 8 | O72: 3 | P72: 1.7 | Q72: 0 | R72: 0 | S72: 0.4
C73: 2- hors classe | D73: 15.6 | E73: 13.8 | F73: 17 | G73: 21.6 | H73: 28 | I73: 45.1 | J73: 57.6 | K73: 65.1 | L73: 71.6 | M73: 77.3 | N73: 76.8 | O73: 76.6 | P73: 69.7 | Q73: 62 | R73: 53.8 | S73: 53.1
C74: 3- classe excep, | D74: 0.5 | E74: 1 | F74: 0.9 | G74: 1.5 | H74: 2.7 | I74: 3.4 | J74: 4.1 | K74: 6.6 | L74: 8.4 | M74: 12.1 | N74: 15.1 | O74: 20.3 | P74: 28.5 | Q74: 38 | R74: 46.2 | S74: 46.4

Sheet 6.8
A1: 6.8 - Indice moyen des enseignants fonctionnaires selon l'ancienneté, par corps et sexe
A30: Panorama statistique des personnels de l’enseignement scolaire 2026, DEPP
A31: ► Lecture : à la rentrée 2025, les professeurs des écoles ayant 30 ans d'ancienneté ont un indice moyen de 803 pour les femmes et de 820 pour les hommes.
A32: ► Champ : France, personnels fonctionnaires appartenant à un corps enseignant du secteur public, rémunérés au titre de l'éducation nationale, en activité au 30 novembre 2025.
A33: ► Source : DEPP, Panel des personnels issu de BSA, novembre 2025.
B40: Prof. des écoles | E40: Prof. certifiés | H40: PEPS | K40: PLP | N40: Prof. agrégés
B42: Femmes | C42: Hommes | D42: écart | E42: Femmes | F42: Hommes | G42: écart | H42: Femmes | I42: Hommes | J42: écart | K42: Femmes | L42: Hommes | M42: écart | N42: Femmes | O42: Hommes | P42: écart
A43: 1 | B43: 462.4819 | C43: 463.609 | D43: =C43/B43-1 -> 0.0024370683 | E43: 453.567 | F43: 456.4985 | G43: =F43/E43-1 -> 0.0064632127 | H43: 444.4789 | I43: 445.7984 | J43: =I43/H43-1 -> 0.0029686449 | K43: 503.7915 | L43: 514.6938 | M43: =L43/K43-1 -> 0.0216405 | N43: 507.3904 | O43: 510.9569 | P43: =O43/N43-1 -> 0.0070291042
A44: 2 | B44: 467.7787 | C44: 471.4711 | D44: =C44/B44-1 -> 0.0078934761 | E44: 467.1741 | F44: 471.9511 | G44: =F44/E44-1 -> 0.01022531 | H44: 457.0913 | I44: 455.3235 | J44: =I44/H44-1 -> -0.0038674987 | K44: 508.1041 | L44: 529.0412 | M44: =L44/K44-1 -> 0.04120632 | N44: 532.2286 | O44: 535.8323 | P44: =O44/N44-1 -> 0.0067709627
A45: 3 | B45: 463.8962 | C45: 464.0877 | D45: =C45/B45-1 -> 0.00041280787 | E45: 466.3844 | F45: 469.673 | G45: =F45/E45-1 -> 0.007051265 | H45: 455.2681 | I45: 456.3679 | J45: =I45/H45-1 -> 0.0024157194 | K45: 498.5497 | L45: 515.98 | M45: =L45/K45-1 -> 0.034962011 | N45: 542.3347 | O45: 545.3283 | P45: =O45/N45-1 -> 0.0055198386
A46: 4 | B46: 465.7453 | C46: 467.4143 | D46: =C46/B46-1 -> 0.0035835037 | E46: 467.6049 | F46: 468.4536 | G46: =F46/E46-1 -> 0.0018149938 | H46: 460.0043 | I46: 459.3415 | J46: =I46/H46-1 -> -0.0014408561 | K46: 492.8138 | L46: 512.4974 | M46: =L46/K46-1 -> 0.039941252 | N46: 554.4189 | O46: 557.2628 | P46: =O46/N46-1 -> 0.0051295149
A47: 5 | B47: 473.2133 | C47: 475.4186 | D47: =C47/B47-1 -> 0.0046602663 | E47: 477.3397 | F47: 478.0374 | G47: =F47/E47-1 -> 0.0014616425 | H47: 468.7773 | I47: 470.6794 | J47: =I47/H47-1 -> 0.004057577 | K47: 506.413 | L47: 517.2882 | M47: =L47/K47-1 -> 0.021474962 | N47: 577.1157 | O47: 573.1775 | P47: =O47/N47-1 -> -0.006823935
A48: 6 | B48: 480.6602 | C48: 483.3809 | D48: =C48/B48-1 -> 0.0056603397 | E48: 483.1187 | F48: 485.2359 | G48: =F48/E48-1 -> 0.0043823599 | H48: 474.3922 | I48: 475.1376 | J48: =I48/H48-1 -> 0.0015712737 | K48: 510.384 | L48: 526.7837 | M48: =L48/K48-1 -> 0.032132081 | N48: 583.4434 | O48: 578.3505 | P48: =O48/N48-1 -> -0.0087290387
A49: 7 | B49: 488.6729 | C49: 491.2495 | D49: =C49/B49-1 -> 0.0052726476 | E49: 492.554 | F49: 495.478 | G49: =F49/E49-1 -> 0.0059364049 | H49: 483.04 | I49: 489.5352 | J49: =I49/H49-1 -> 0.013446505 | K49: 518.1759 | L49: 534.2027 | M49: =L49/K49-1 -> 0.030929266 | N49: 604.169 | O49: 608.2289 | P49: =O49/N49-1 -> 0.0067198085
A50: 8 | B50: 495.0475 | C50: 496.4361 | D50: =C50/B50-1 -> 0.0028049834 | E50: 500.6422 | F50: 501.95 | G50: =F50/E50-1 -> 0.0026122448 | H50: 489.1217 | I50: 491.0145 | J50: =I50/H50-1 -> 0.0038697936 | K50: 524.1059 | L50: 543.0594 | M50: =L50/K50-1 -> 0.036163493 | N50: 618.6854 | O50: 618.4441 | P50: =O50/N50-1 -> -0.00039002052
A51: 9 | B51: 511.8397 | C51: 512.5323 | D51: =C51/B51-1 -> 0.001353158 | E51: 519.0008 | F51: 516.5925 | G51: =F51/E51-1 -> -0.0046402626 | H51: 508.9469 | I51: 506.6946 | J51: =I51/H51-1 -> -0.0044254126 | K51: 546.324 | L51: 560.7261 | M51: =L51/K51-1 -> 0.026361829 | N51: 644.0355 | O51: 645.4807 | P51: =O51/N51-1 -> 0.0022439757
A52: 10 | B52: 530.6209 | C52: 530.4935 | D52: =C52/B52-1 -> -0.00024009608 | E52: 537.1503 | F52: 537.712 | G52: =F52/E52-1 -> 0.0010457036 | H52: 529.39 | I52: 530.6132 | J52: =I52/H52-1 -> 0.0023105839 | K52: 562.0368 | L52: 574.6803 | M52: =L52/K52-1 -> 0.022495858 | N52: 660.2453 | O52: 664.9881 | P52: =O52/N52-1 -> 0.0071833908
A53: 11 | B53: 541.9201 | C53: 544.1701 | D53: =C53/B53-1 -> 0.0041519036 | E53: 547.1807 | F53: 548.1926 | G53: =F53/E53-1 -> 0.0018492977 | H53: 538.1392 | I53: 537.1921 | J53: =I53/H53-1 -> -0.0017599536 | K53: 567.6556 | L53: 582.6987 | M53: =L53/K53-1 -> 0.026500399 | N53: 675.3901 | O53: 677.9766 | P53: =O53/N53-1 -> 0.0038296386
A54: 12 | B54: 563.2738 | C54: 564.1012 | D54: =C54/B54-1 -> 0.0014689126 | E54: 565.4541 | F54: 569.0199 | G54: =F54/E54-1 -> 0.0063060821 | H54: 563.2316 | I54: 559.9232 | J54: =I54/H54-1 -> -0.0058739602 | K54: 583.6312 | L54: 597.5178 | M54: =L54/K54-1 -> 0.02379345 | N54: 699.2156 | O54: 704.0481 | P54: =O54/N54-1 -> 0.0069113161
... A72: 30 | B72: 803.2316 | C72: 820.0508 | D72: =C72/B72-1 -> 0.020939415 | E72: 825.74 | F72: 834.6857 | G72: =F72/E72-1 -> 0.010833555 | H72: 818.856 | I72: 833.6421 | J72: =I72/H72-1 -> 0.018057021 | K72: 840.8841 | L72: 853.0798 | M72: =L72/K72-1 -> 0.014503426 | N72: 950.354 | O72: 960.9714 | P72: =O72/N72-1 -> 0.011172047

Sheet 6.9
A1: 6.9 - Taux de mobilité des enseignants des premier et second degrés publics selon la classe d'âge (en %)
B2: Premier degré | E2: Second degré | H2: Ensemble
B3: Mobilité globale | D3: Mobilité interdépartementale | E3: Mobilité globale | G3: Mobilité interacadémique | H3: Mobilité globale
B4: Ensemble | C4: Titulaires d'un poste définitif en établissement | E4: Ensemble | F4: Titulaires d'un poste définitif en établissement
A5: Fonctionnaires titulaires (1) | B5: 16.9 | C5: 6.3 | D5: 1.1 | E5: 7.5 | F5: 3.4 | G5: 1.5 | H5: 12.1
A6: Moins de 30 ans | B6: 49.8 | C6: 11.3 | D6: 2.6 | E6: 27 | F6: 8.1 | G6: 8.4 | H6: 39.8
A7: 30-39 ans | B7: 24.2 | C7: 8.6 | D7: 1.8 | E7: 13.7 | F7: 6.2 | G7: 3.2 | H7: 19.3
A8: 40-49 ans | B8: 13.5 | C8: 6.3 | D8: 0.8 | E8: 6.2 | F8: 3.5 | G8: 0.9 | H8: 10.1
A9: 50 ans et plus | B9: 10.1 | C9: 4.9 | D9: 0.6 | E9: 4 | F9: 2.2 | G9: 0.6 | H9: 6.6
A10: Fonctionnaires néo-titulaires (2) | B10: 94.7 | D10: 0.2 | E10: 88.8 | G10: 51.1 | H10: 91.9
A11: Panorama statistique des personnels de l’enseignement scolaire 2026, DEPP
A12: 1. Hors néo-titulaires.
A13: 2. Les néo-titulaires correspondent aux enseignants stagiaires le 30 novembre 2024 et titulaires le 30 novembre 2025.
A14: ► Lecture : entre la rentrée 2024 et la rentrée 2025, 1,1 % des enseignants du premier degré ont changé de département tandis que 1,5 % des enseignants du second degré ont changé d'académie.
A15: ► Champ : France, personnels fonctionnaires appartenant à un corps enseignant du secteur public, rémunérés au titre de l'éducation nationale, en activité au 30 novembre 2024 et au 30 novembre 2025.
A16: ► Source : DEPP, Panel des personnels issu de BSA, novembre 2025.

Sheet 6.10
A1: 6.10 - Taux de migration nette des enseignants fonctionnaires du premier degré public par département (en %)
A2: Code département | B2: Département | C2: Taux de migration nette (en %)
A3: D001 | B3: Ain | C3: -0.7
A4: D002 | B4: Aisne | C4: -0.5
A5: D003 | B5: Allier | C5: 0.9
A6: D004 | B6: Alpes-de-Haute-Provence | C6: 1.2
A7: D005 | B7: Hautes-Alpes | C7: 0.7
A8: D006 | B8: Alpes-Maritimes | C8: 0.5
A9: D007 | B9: Ardèche | C9: 0.5
A10: D008 | B10: Ardennes | C10: -0.1
A11: D009 | B11: Ariège | C11: 1.3
A12: D010 | B12: Aube | C12: 0.3
A13: D011 | B13: Aude | C13: 0.9
A14: D012 | B14: Aveyron | C14: 0.8
... A103: D976 | B103: Mayotte | C103: -1.1
A104: Panorama statistique des personnels de l’enseignement scolaire 2026, DEPP
A105: ► Lecture : entre la rentrée 2024 et la rentrée 2025, le taux de migration interdépartementale de l'Ille-et-Vilaine est de 0,5 %.
A106: ► Champ : France, personnels fonctionnaires appartenant à un corps enseignant du secteur public, rémunérés au titre de l'éducation nationale, en activité au 30 novembre 2024 et au 30 novembre 2025.
A107: ► Source : DEPP, Panel des personnels issu de BSA, novembre 2025.

Sheet 6.11
A1: 6.11 - Taux de migration nette des enseignants fonctionnaires du second degré public par académie (en %)
A2: Code académie | B2: Académie | C2: Taux de migration nette (en %)
A3: A01 | B3: Paris | C3: 0.6
A4: A02 | B4: Aix-Marseille | C4: 1.3
A5: A03 | B5: Besançon | C5: 0.7
A6: A04 | B6: Bordeaux | C6: 1.8
A7: A06 | B7: Clermont-Ferrand | C7: 1.4
A8: A07 | B8: Dijon | C8: 0.3
A9: A08 | B9: Grenoble | C9: 1
A10: A09 | B10: Lille | C10: 0.5
A11: A10 | B11: Lyon | C11: 0.7
A12: A11 | B12: Montpellier | C12: 1.4
A13: A12 | B13: Nancy-Metz | C13: 0.4
A14: A13 | B14: Poitiers | C14: 0.8
... A32: A70 | B32: Normandie | C32: 0.7
A33: Panorama statistique des personnels de l’enseignement scolaire 2026, DEPP
A34: ► Lecture : entre la rentrée 2024 et la rentrée 2025, le taux de migration interacadémique de Rennes est de 1,2 %.
A35: ► Champ : France, personnels fonctionnaires appartenant à un corps enseignant du secteur public, rémunérés au titre de l'éducation nationale, en activité au 30 novembre 2024 et au 30 novembre 2025.
A36: ► Source : DEPP, Panel des personnels issu de BSA, novembre 2025.

Sheet 6.12
A1: 6.12 - Répartition des enseignants en fonction de leur ancienneté dans l'établissement
B2: Moins de 1 an | C2: Entre 1 an et 6 ans | D2: Entre 6 ans et 12 ans | E2: 12 ans ou plus | F2: Total
A3: Écoles | B3: 11.5 | C3: 34.6 | D3: 25.4 | E3: 28.6 | F3: 100
A4: hors zone REP ou REP+ | B4: 11.5 | C4: 34.2 | D4: 24.2 | E4: 30.1 | F4: 100
A5: REP | B5: 11.8 | C5: 37.1 | D5: 27.7 | E5: 23.3 | F5: 100
A6: REP+ | B6: 10.5 | C6: 33.3 | D6: 30.8 | E6: 25.4 | F6: 100
A7: Collèges et SEGPA | B7: 6.5 | C7: 27.5 | D7: 25.4 | E7: 40.6 | F7: 100
A8: hors zone REP ou REP+ | B8: 6.1 | C8: 25.8 | D8: 24.7 | E8: 43.4 | F8: 100
A9: REP | B9: 8.4 | C9: 33.6 | D9: 26.2 | E9: 31.8 | F9: 100
A10: REP+ | B10: 7.1 | C10: 32.3 | D10: 30.4 | E10: 30.2 | F10: 100
A11: Lycées GT | B11: 4.9 | C11: 25.2 | D11: 26.1 | E11: 43.9 | F11: 100
A12: Lycées professionnels | B12: 5.9 | C12: 26.3 | D12: 24.8 | E12: 43 | F12: 100
A13: Lycées polyvalents | B13: 5.8 | C13: 26.3 | D13: 26.9 | E13: 40.9 | F13: 100
A14: Autres établissements | B14: 38.3 | C14: 43.9 | D14: 12.5 | E14: 5.3 | F14: 100
A15: Ensemble des écoles et établissements | B15: 12.5 | C15: 32.1 | D15: 23.8 | E15: 31.5 | F15: 100
A16: Panorama statistique des personnels de l’enseignement scolaire 2026, DEPP
A17: ► Lecture : à la rentrée 2025, les professeurs ayant moins d'un an d'ancienneté dans l'établissement représentent 11,8 % des enseignants dans les écoles REP, 10,5 % dans les écoles REP+ et 11,5 % dans les écoles hors zone REP ou REP+.
A18: ► Champ : France, personnels fonctionnaires appartenant à un corps enseignant du secteur public, rémunérés au titre de l'éducation nationale, en activité au 30 novembre 2024 et au 30 novembre 2025.
A19: ► Source : DEPP, Panel des personnels issu de BSA, novembre 2025.

Sheet Données_6.1(1D)
A1: Figure 6.1 – Pyramide des anciennetés en tant qu'enseignants fonctionnaires en activité dans le premier degré public
A2: PUBLIC
A3: Hommes | C3: Femmes
A4: -1365 | B4: 0 | C4: 7913
A5: -1179 | B5: 1 | C5: 7779
A6: -1286 | B6: 2 | C6: 8545
A7: -1189 | B7: 3 | C7: 7514
A8: -1136 | B8: 4 | C8: 7760
A9: -1267 | B9: 5 | C9: 8098
A10: -1277 | B10: 6 | C10: 8009
A11: -1389 | B11: 7 | C11: 8720
A12: -1613 | B12: 8 | C12: 9950
A13: -1541 | B13: 9 | C13: 9640
A14: -1457 | B14: 10 | C14: 9800
A15: -1646 | B15: 11 | C15: 10827
... A44: -434 | B44: 40 | C44: 1096
A45: 18.2 | B45: Moy | C45: 17.3
A46: Panorama statistique des personnels de l’enseignement scolaire 2026, DEPP
A47: Champ : France, personnels fonctionnaires appartenant à un corps enseignant du secteur public, rémunérés au titre de l'éducation nationale, en activité au 30 novembre 2025.
A48: Sources : DEPP / Panel des personnels issu de BSA, novembre 2025.

Sheet Données_6.1(2D)
A1: Figure 6.1 – Pyramide des anciennetés en tant qu'enseignants fonctionnaires en activité dans le second degré public
A2: PUBLIC
A3: Hommes | C3: Femmes
A4: -3865 | B4: 0 | C4: 4754
A5: -3620 | B5: 1 | C5: 4473
A6: -3408 | B6: 2 | C6: 4350
A7: -3159 | B7: 3 | C7: 4277
A8: -3686 | B8: 4 | C8: 4678
A9: -3504 | B9: 5 | C9: 4700
A10: -3468 | B10: 6 | C10: 4790
A11: -3565 | B11: 7 | C11: 5194
A12: -3992 | B12: 8 | C12: 5795
A13: -3938 | B13: 9 | C13: 5686
A14: -4104 | B14: 10 | C14: 6272
A15: -5202 | B15: 11 | C15: 7827
... A44: -269 | B44: 40 | C44: 454
A45: 18.5 | B45: Moy | C45: 18.6
A46: Panorama statistique des personnels de l’enseignement scolaire 2026, DEPP
A47: Champ : France, personnels fonctionnaires appartenant à un corps enseignant du secteur public, rémunérés au titre de l'éducation nationale, en activité au 30 novembre 2025.
A48: Sources : DEPP / Panel des personnels issu de BSA, novembre 2025.

Sheet Données_6.7
A1: corps_s | B1: anciennet_ens | C1: cd_sexe | D1: hommes_Classe_normale | E1: hommes_Hors_classe | F1: hommes_Classe_exceptionelle | G1: femmes_Classe_normale | H1: femmes_Hors_classe | I1: femmes_Classe_exceptionelle
A2: Professeurs des écoles
B3: 15 | C3: h | D3: ='6.7'!D45 -> 96.2 | E3: ='6.7'!D46 -> 2.8 | F3: ='6.7'!D47 -> 0.9 | G3: 0 | H3: 0 | I3: 0 | M3: =SUM(D3:F3) -> 99.9
C4: f | D4: 0 | E4: 0 | F4: 0 | G4: ='6.7'!D48 -> 98.7 | H4: ='6.7'!D49 -> 0.9 | I4: ='6.7'!D50 -> 0.4 | M4: =SUM(D4:F4) -> 0 | N4: =SUM(G4:I4) -> 100
B5: 16 | C5: h | D5: ='6.7'!E45 -> 96.1 | E5: ='6.7'!E46 -> 3.1 | F5: ='6.7'!E47 -> 0.8 | G5: 0 | H5: 0 | I5: 0 | M5: =SUM(D5:F5) -> 100 | N5: =SUM(G5:I5) -> 0
C6: f | D6: 0 | E6: 0 | F6: 0 | G6: ='6.7'!E48 -> 98.4 | H6: ='6.7'!E49 -> 1.3 | I6: ='6.7'!E50 -> 0.2 | M6: =SUM(D6:F6) -> 0 | N6: =SUM(G6:I6) -> 99.9
B7: 17 | C7: h | D7: ='6.7'!F45 -> 97.5 | E7: ='6.7'!F46 -> 1.8 | F7: ='6.7'!F47 -> 0.7 | G7: 0 | H7: 0 | I7: 0 | M7: =SUM(D7:F7) -> 100 | N7: =SUM(G7:I7) -> 0
C8: f | D8: 0 | E8: 0 | F8: 0 | G8: ='6.7'!F48 -> 98.3 | H8: ='6.7'!F49 -> 1.4 | I8: ='6.7'!F50 -> 0.3 | M8: =SUM(D8:F8) -> 0 | N8: =SUM(G8:I8) -> 100
B9: 18 | C9: h | D9: ='6.7'!G45 -> 93.9 | E9: ='6.7'!G46 -> 5.1 | F9: ='6.7'!G47 -> 1 | G9: 0 | H9: 0 | I9: 0 | M9: =SUM(D9:F9) -> 100 | N9: =SUM(G9:I9) -> 0
C10: f | D10: 0 | E10: 0 | F10: 0 | G10: ='6.7'!G48 -> 97 | H10: ='6.7'!G49 -> 2.6 | I10: ='6.7'!G50 -> 0.4 | M10: =SUM(D10:F10) -> 0 | N10: =SUM(G10:I10) -> 100
B11: 19 | C11: h | D11: ='6.7'!H45 -> 90 | E11: ='6.7'!H46 -> 8.3 | F11: ='6.7'!H47 -> 1.7 | G11: 0 | H11: 0 | I11: 0 | M11: =SUM(D11:F11) -> 100 | N11: =SUM(G11:I11) -> 0
C12: f | D12: 0 | E12: 0 | F12: 0 | G12: ='6.7'!H48 -> 92.6 | H12: ='6.7'!H49 -> 6.9 | I12: ='6.7'!H50 -> 0.5 | M12: =SUM(D12:F12) -> 0 | N12: =SUM(G12:I12) -> 100
B13: 20 | C13: h | D13: ='6.7'!I45 -> 79.3 | E13: ='6.7'!I46 -> 19.6 | F13: ='6.7'!I47 -> 1.2 | G13: 0 | H13: 0 | I13: 0 | M13: =SUM(D13:F13) -> 100.1 | N13: =SUM(G13:I13) -> 0
C14: f | D14: 0 | E14: 0 | F14: 0 | G14: ='6.7'!I48 -> 84.3 | H14: ='6.7'!I49 -> 15.1 | I14: ='6.7'!I50 -> 0.6 | M14: =SUM(D14:F14) -> 0 | N14: =SUM(G14:I14) -> 100
B15: 21 | C15: h | D15: ='6.7'!J45 -> 66.6 | E15: ='6.7'!J46 -> 31 | F15: ='6.7'!J47 -> 2.3 | G15: 0 | H15: 0 | I15: 0 | M15: =SUM(D15:F15) -> 99.9 | N15: =SUM(G15:I15) -> 0
C16: f | D16: 0 | E16: 0 | F16: 0 | G16: ='6.7'!J48 -> 68.8 | H16: ='6.7'!J49 -> 30.4 | I16: ='6.7'!J50 -> 0.8 | M16: =SUM(D16:F16) -> 0 | N16: =SUM(G16:I16) -> 100
B17: 22 | C17: h | D17: ='6.7'!K45 -> 50.5 | E17: ='6.7'!K46 -> 46.1 | F17: ='6.7'!K47 -> 3.5 | G17: 0 | H17: 0 | I17: 0 | M17: =SUM(D17:F17) -> 100.1 | N17: =SUM(G17:I17) -> 0
C18: f | D18: 0 | E18: 0 | F18: 0 | G18: ='6.7'!K48 -> 53.3 | H18: ='6.7'!K49 -> 44.8 | I18: ='6.7'!K50 -> 1.8 | M18: =SUM(D18:F18) -> 0 | N18: =SUM(G18:I18) -> 99.9
B19: 23 | C19: h | D19: ='6.7'!L45 -> 32.2 | E19: ='6.7'!L46 -> 61.9 | F19: ='6.7'!L47 -> 5.9 | G19: 0 | H19: 0 | I19: 0 | M19: =SUM(D19:F19) -> 100 | N19: =SUM(G19:I19) -> 0
C20: f | D20: 0 | E20: 0 | F20: 0 | G20: ='6.7'!L48 -> 32.6 | H20: ='6.7'!L49 -> 63.7 | I20: ='6.7'!L50 -> 3.6 | M20: =SUM(D20:F20) -> 0 | N20: =SUM(G20:I20) -> 99.9
B21: 24 | C21: h | D21: ='6.7'!M45 -> 20.7 | E21: ='6.7'!M46 -> 68.3 | F21: ='6.7'!M47 -> 11 | G21: 0 | H21: 0 | I21: 0 | M21: =SUM(D21:F21) -> 100 | N21: =SUM(G21:I21) -> 0
C22: f | D22: 0 | E22: 0 | F22: 0 | G22: ='6.7'!M48 -> 19.1 | H22: ='6.7'!M49 -> 74.3 | I22: ='6.7'!M50 -> 6.6 | M22: =SUM(D22:F22) -> 0 | N22: =SUM(G22:I22) -> 100
B23: 25 | C23: h | D23: ='6.7'!N45 -> 13.4 | E23: ='6.7'!N46 -> 69.7 | F23: ='6.7'!N47 -> 16.9 | G23: 0 | H23: 0 | I23: 0 | M23: =SUM(D23:F23) -> 100 | N23: =SUM(G23:I23) -> 0
C24: f | D24: 0 | E24: 0 | F24: 0 | G24: ='6.7'!N48 -> 13.5 | H24: ='6.7'!N49 -> 75.3 | I24: ='6.7'!N50 -> 11.2 | M24: =SUM(D24:F24) -> 0 | N24: =SUM(G24:I24) -> 100
B25: 26 | C25: h | D25: ='6.7'!O45 -> 7.4 | E25: ='6.7'!O46 -> 66.7 | F25: ='6.7'!O47 -> 25.9 | G25: 0 | H25: 0 | I25: 0 | M25: =SUM(D25:F25) -> 100 | N25: =SUM(G25:I25) -> 0
C26: f | D26: 0 | E26: 0 | F26: 0 | G26: ='6.7'!O48 -> 5.8 | H26: ='6.7'!O49 -> 78.1 | I26: ='6.7'!O50 -> 16.1 | M26: =SUM(D26:F26) -> 0 | N26: =SUM(G26:I26) -> 100
B27: 27 | C27: h | D27: ='6.7'!P45 -> 3.8 | E27: ='6.7'!P46 -> 59.2 | F27: ='6.7'!P47 -> 37 | G27: 0 | H27: 0 | I27: 0 | M27: =SUM(D27:F27) -> 100 | N27: =SUM(G27:I27) -> 0
C28: f | D28: 0 | E28: 0 | F28: 0 | G28: ='6.7'!P48 -> 2 | H28: ='6.7'!P49 -> 72.6 | I28: ='6.7'!P50 -> 25.4 | M28: =SUM(D28:F28) -> 0 | N28: =SUM(G28:I28) -> 100
B29: 28 | C29: h | D29: ='6.7'!Q45 -> 2.1 | E29: ='6.7'!Q46 -> 48.2 | F29: ='6.7'!Q47 -> 49.7 | G29: 0 | H29: 0 | I29: 0 | M29: =SUM(D29:F29) -> 100 | N29: =SUM(G29:I29) -> 0
C30: f | D30: 0 | E30: 0 | F30: 0 | G30: ='6.7'!Q48 -> 1 | H30: ='6.7'!Q49 -> 61 | I30: ='6.7'!Q50 -> 38.1 | M30: =SUM(D30:F30) -> 0 | N30: =SUM(G30:I30) -> 100.1
B31: 29 | C31: h | D31: ='6.7'!R45 -> 1.5 | E31: ='6.7'!R46 -> 40 | F31: ='6.7'!R47 -> 58.5 | G31: 0 | H31: 0 | I31: 0 | M31: =SUM(D31:F31) -> 100 | N31: =SUM(G31:I31) -> 0
C32: f | D32: 0 | E32: 0 | F32: 0 | G32: ='6.7'!R48 -> 0.8 | H32: ='6.7'!R49 -> 53.1 | I32: ='6.7'!R50 -> 46.1 | M32: =SUM(D32:F32) -> 0 | N32: =SUM(G32:I32) -> 100
B33: 30 | C33: h | D33: ='6.7'!S45 -> 1.1 | E33: ='6.7'!S46 -> 31.9 | F33: ='6.7'!S47 -> 67.1 | G33: 0 | H33: 0 | I33: 0 | M33: =SUM(D33:F33) -> 100.1 | N33: =SUM(G33:I33) -> 0
C34: f | D34: 0 | E34: 0 | F34: 0 | G34: ='6.7'!S48 -> 0.4 | H34: ='6.7'!S49 -> 43.2 | I34: ='6.7'!S50 -> 56.4 | M34: =SUM(D34:F34) -> 0 | N34: =SUM(G34:I34) -> 100
A35: Prof agrégés | M35: =SUM(D35:F35) -> 0 | N35: =SUM(G35:I35) -> 0
B36: 15 | C36: h | D36: ='6.7'!D51 -> 95 | E36: ='6.7'!D52 -> 4.7 | F36: ='6.7'!D53 -> 0.4 | G36: 0 | H36: 0 | I36: 0 | M36: =SUM(D36:F36) -> 100.1 | N36: =SUM(G36:I36) -> 0
C37: f | D37: 0 | E37: 0 | F37: 0 | G37: ='6.7'!D54 -> 97.6 | H37: ='6.7'!D55 -> 2.3 | I37: ='6.7'!D56 -> 0.1 | M37: =SUM(D37:F37) -> 0 | N37: =SUM(G37:I37) -> 100
B38: 16 | C38: h | D38: ='6.7'!E51 -> 95.3 | E38: ='6.7'!E52 -> 4.1 | F38: ='6.7'!E53 -> 0.5 | G38: 0 | H38: 0 | I38: 0 | M38: =SUM(D38:F38) -> 99.9 | N38: =SUM(G38:I38) -> 0
C39: f | D39: 0 | E39: 0 | F39: 0 | G39: ='6.7'!E54 -> 96.6 | H39: ='6.7'!E55 -> 3.4 | I39: ='6.7'!E56 -> 0 | M39: =SUM(D39:F39) -> 0 | N39: =SUM(G39:I39) -> 100
B40: 17 | C40: h | D40: ='6.7'!F51 -> 94 | E40: ='6.7'!F52 -> 5.7 | F40: ='6.7'!F53 -> 0.4 | G40: 0 | H40: 0 | I40: 0 | M40: =SUM(D40:F40) -> 100.1 | N40: =SUM(G40:I40) -> 0
C41: f | D41: 0 | E41: 0 | F41: 0 | G41: ='6.7'!F54 -> 95.9 | H41: ='6.7'!F55 -> 3.9 | I41: ='6.7'!F56 -> 0.2 | M41: =SUM(D41:F41) -> 0 | N41: =SUM(G41:I41) -> 100
B42: 18 | C42: h | D42: ='6.7'!G51 -> 92.9 | E42: ='6.7'!G52 -> 7.1 | F42: ='6.7'!G53 -> 0 | G42: 0 | H42: 0 | I42: 0 | M42: =SUM(D42:F42) -> 100 | N42: =SUM(G42:I42) -> 0
C43: f | D43: 0 | E43: 0 | F43: 0 | G43: ='6.7'!G54 -> 94.3 | H43: ='6.7'!G55 -> 5.6 | I43: ='6.7'!G56 -> 0.1 | M43: =SUM(D43:F43) -> 0 | N43: =SUM(G43:I43) -> 100
B44: 19 | C44: h | D44: ='6.7'!H51 -> 89.3 | E44: ='6.7'!H52 -> 9.8 | F44: ='6.7'!H53 -> 0.9 | G44: 0 | H44: 0 | I44: 0 | M44: =SUM(D44:F44) -> 100 | N44: =SUM(G44:I44) -> 0
C45: f | D45: 0 | E45: 0 | F45: 0 | G45: ='6.7'!H54 -> 90.3 | H45: ='6.7'!H55 -> 9.3 | I45: ='6.7'!H56 -> 0.4 | M45: =SUM(D45:F45) -> 0 | N45: =SUM(G45:I45) -> 100
B46: 20 | C46: h | D46: ='6.7'!I51 -> 85.6 | E46: ='6.7'!I52 -> 13.6 | F46: ='6.7'!I53 -> 0.8 | G46: 0 | H46: 0 | I46: 0 | M46: =SUM(D46:F46) -> 100 | N46: =SUM(G46:I46) -> 0
C47: f | D47: 0 | E47: 0 | F47: 0 | G47: ='6.7'!I54 -> 87.4 | H47: ='6.7'!I55 -> 12.4 | I47: ='6.7'!I56 -> 0.2 | M47: =SUM(D47:F47) -> 0 | N47: =SUM(G47:I47) -> 100
B48: 21 | C48: h | D48: ='6.7'!J51 -> 74.1 | E48: ='6.7'!J52 -> 24.4 | F48: ='6.7'!J53 -> 1.5 | G48: 0 | H48: 0 | I48: 0 | M48: =SUM(D48:F48) -> 100 | N48: =SUM(G48:I48) -> 0
C49: f | D49: 0 | E49: 0 | F49: 0 | G49: ='6.7'!J54 -> 77.5 | H49: ='6.7'!J55 -> 22.1 | I49: ='6.7'!J56 -> 0.4 | M49: =SUM(D49:F49) -> 0 | N49: =SUM(G49:I49) -> 100
B50: 22 | C50: h | D50: ='6.7'!K51 -> 65.3 | E50: ='6.7'!K52 -> 32.5 | F50: ='6.7'!K53 -> 2.2 | G50: 0 | H50: 0 | I50: 0 | M50: =SUM(D50:F50) -> 100 | N50: =SUM(G50:I50) -> 0
C51: f | D51: 0 | E51: 0 | F51: 0 | G51: ='6.7'!K54 -> 65.8 | H51: ='6.7'!K55 -> 33.4 | I51: ='6.7'!K56 -> 0.8 | M51: =SUM(D51:F51) -> 0 | N51: =SUM(G51:I51) -> 100
B52: 23 | C52: h | D52: ='6.7'!L51 -> 57.8 | E52: ='6.7'!L52 -> 40.1 | F52: ='6.7'!L53 -> 2.1 | G52: 0 | H52: 0 | I52: 0 | M52: =SUM(D52:F52) -> 100 | N52: =SUM(G52:I52) -> 0
C53: f | D53: 0 | E53: 0 | F53: 0 | G53: ='6.7'!L54 -> 60.4 | H53: ='6.7'!L55 -> 38.5 | I53: ='6.7'!L56 -> 1.1 | M53: =SUM(D53:F53) -> 0 | N53: =SUM(G53:I53) -> 100
B54: 24 | C54: h | D54: ='6.7'!M51 -> 44.5 | E54: ='6.7'!M52 -> 52.1 | F54: ='6.7'!M53 -> 3.4 | G54: 0 | H54: 0 | I54: 0 | M54: =SUM(D54:F54) -> 100 | N54: =SUM(G54:I54) -> 0
C55: f | D55: 0 | E55: 0 | F55: 0 | G55: ='6.7'!M54 -> 46.1 | H55: ='6.7'!M55 -> 52.5 | I55: ='6.7'!M56 -> 1.3 | M55: =SUM(D55:F55) -> 0 | N55: =SUM(G55:I55) -> 99.9
B56: 25 | C56: h | D56: ='6.7'!N51 -> 35.3 | E56: ='6.7'!N52 -> 60.5 | F56: ='6.7'!N53 -> 4.2 | G56: 0 | H56: 0 | I56: 0 | M56: =SUM(D56:F56) -> 100 | N56: =SUM(G56:I56) -> 0
C57: f | D57: 0 | E57: 0 | F57: 0 | G57: ='6.7'!N54 -> 36.8 | H57: ='6.7'!N55 -> 60.9 | I57: ='6.7'!N56 -> 2.3 | M57: =SUM(D57:F57) -> 0 | N57: =SUM(G57:I57) -> 100
B58: 26 | C58: h | D58: ='6.7'!O51 -> 24.9 | E58: ='6.7'!O52 -> 68 | F58: ='6.7'!O53 -> 7.1 | G58: 0 | H58: 0 | I58: 0 | M58: =SUM(D58:F58) -> 100 | N58: =SUM(G58:I58) -> 0
C59: f | D59: 0 | E59: 0 | F59: 0 | G59: ='6.7'!O54 -> 25.9 | H59: ='6.7'!O55 -> 67.9 | I59: ='6.7'!O56 -> 6.2 | M59: =SUM(D59:F59) -> 0 | N59: =SUM(G59:I59) -> 100
B60: 27 | C60: h | D60: ='6.7'!P51 -> 15 | E60: ='6.7'!P52 -> 73.8 | F60: ='6.7'!P53 -> 11.2 | G60: 0 | H60: 0 | I60: 0 | M60: =SUM(D60:F60) -> 100 | N60: =SUM(G60:I60) -> 0
C61: f | D61: 0 | E61: 0 | F61: 0 | G61: ='6.7'!P54 -> 17.4 | H61: ='6.7'!P55 -> 71.4 | I61: ='6.7'!P56 -> 11.2 | M61: =SUM(D61:F61) -> 0 | N61: =SUM(G61:I61) -> 100
B62: 28 | C62: h | D62: ='6.7'!Q51 -> 10.4 | E62: ='6.7'!Q52 -> 72.3 | F62: ='6.7'!Q53 -> 17.3 | G62: 0 | H62: 0 | I62: 0 | M62: =SUM(D62:F62) -> 100 | N62: =SUM(G62:I62) -> 0
C63: f | D63: 0 | E63: 0 | F63: 0 | G63: ='6.7'!Q54 -> 11.6 | H63: ='6.7'!Q55 -> 71.6 | I63: ='6.7'!Q56 -> 16.8 | M63: =SUM(D63:F63) -> 0 | N63: =SUM(G63:I63) -> 100
B64: 29 | C64: h | D64: ='6.7'!R51 -> 5 | E64: ='6.7'!R52 -> 72.2 | F64: ='6.7'!R53 -> 22.9 | G64: 0 | H64: 0 | I64: 0 | M64: =SUM(D64:F64) -> 100.1 | N64: =SUM(G64:I64) -> 0
C65: f | D65: 0 | E65: 0 | F65: 0 | G65: ='6.7'!R54 -> 7.3 | H65: ='6.7'!R55 -> 68.8 | I65: ='6.7'!R56 -> 23.9 | M65: =SUM(D65:F65) -> 0 | N65: =SUM(G65:I65) -> 100
B66: 30 | C66: h | D66: ='6.7'!S51 -> 3.6 | E66: ='6.7'!S52 -> 67 | F66: ='6.7'!S53 -> 29.4 | G66: 0 | H66: 0 | I66: 0 | M66: =SUM(D66:F66) -> 100 | N66: =SUM(G66:I66) -> 0
C67: f | D67: 0 | E67: 0 | F67: 0 | G67: ='6.7'!S54 -> 4.4 | H67: ='6.7'!S55 -> 66.8 | I67: ='6.7'!S56 -> 28.8 | M67: =SUM(D67:F67) -> 0 | N67: =SUM(G67:I67) -> 100
A68: Prof certifiés | M68: =SUM(D68:F68) -> 0 | N68: =SUM(G68:I68) -> 0
B69: 15 | C69: h | D69: ='6.7'!D57 -> 94.2 | E69: ='6.7'!D58 -> 4.8 | F69: ='6.7'!D59 -> 0.9 | G69: 0 | H69: 0 | I69: 0 | M69: =SUM(D69:F69) -> 99.9 | N69: =SUM(G69:I69) -> 0
C70: f | D70: 0 | E70: 0 | F70: 0 | G70: ='6.7'!D60 -> 97 | H70: ='6.7'!D61 -> 2.4 | I70: ='6.7'!D62 -> 0.5 | M70: =SUM(D70:F70) -> 0 | N70: =SUM(G70:I70) -> 99.9
B71: 16 | C71: h | D71: ='6.7'!E57 -> 93.9 | E71: ='6.7'!E58 -> 5.5 | F71: ='6.7'!E59 -> 0.6 | G71: 0 | H71: 0 | I71: 0 | M71: =SUM(D71:F71) -> 100 | N71: =SUM(G71:I71) -> 0
C72: f | D72: 0 | E72: 0 | F72: 0 | G72: ='6.7'!E60 -> 96.8 | H72: ='6.7'!E61 -> 2.9 | I72: ='6.7'!E62 -> 0.3 | M72: =SUM(D72:F72) -> 0 | N72: =SUM(G72:I72) -> 100
B73: 17 | C73: h | D73: ='6.7'!F57 -> 93.2 | E73: ='6.7'!F58 -> 5.4 | F73: ='6.7'!F59 -> 1.4 | G73: 0 | H73: 0 | I73: 0 | M73: =SUM(D73:F73) -> 100 | N73: =SUM(G73:I73) -> 0
C74: f | D74: 0 | E74: 0 | F74: 0 | G74: ='6.7'!F60 -> 95.6 | H74: ='6.7'!F61 -> 4.1 | I74: ='6.7'!F62 -> 0.3 | M74: =SUM(D74:F74) -> 0 | N74: =SUM(G74:I74) -> 100
B75: 18 | C75: h | D75: ='6.7'!G57 -> 89.7 | E75: ='6.7'!G58 -> 8.9 | F75: ='6.7'!G59 -> 1.4 | G75: 0 | H75: 0 | I75: 0 | M75: =SUM(D75:F75) -> 100 | N75: =SUM(G75:I75) -> 0
C76: f | D76: 0 | E76: 0 | F76: 0 | G76: ='6.7'!G60 -> 90.9 | H76: ='6.7'!G61 -> 8.5 | I76: ='6.7'!G62 -> 0.5 | M76: =SUM(D76:F76) -> 0 | N76: =SUM(G76:I76) -> 99.9
B77: 19 | C77: h | D77: ='6.7'!H57 -> 81.9 | E77: ='6.7'!H58 -> 16.6 | F77: ='6.7'!H59 -> 1.6 | G77: 0 | H77: 0 | I77: 0 | M77: =SUM(D77:F77) -> 100.1 | N77: =SUM(G77:I77) -> 0
C78: f | D78: 0 | E78: 0 | F78: 0 | G78: ='6.7'!H60 -> 83 | H78: ='6.7'!H61 -> 16.4 | I78: ='6.7'!H62 -> 0.6 | M78: =SUM(D78:F78) -> 0 | N78: =SUM(G78:I78) -> 100
B79: 20 | C79: h | D79: ='6.7'!I57 -> 69.8 | E79: ='6.7'!I58 -> 28.1 | F79: ='6.7'!I59 -> 2.1 | G79: 0 | H79: 0 | I79: 0 | M79: =SUM(D79:F79) -> 100 | N79: =SUM(G79:I79) -> 0
C80: f | D80: 0 | E80: 0 | F80: 0 | G80: ='6.7'!I60 -> 67 | H80: ='6.7'!I61 -> 31.7 | I80: ='6.7'!I62 -> 1.3 | M80: =SUM(D80:F80) -> 0 | N80: =SUM(G80:I80) -> 100
B81: 21 | C81: h | D81: ='6.7'!J57 -> 56.7 | E81: ='6.7'!J58 -> 40.4 | F81: ='6.7'!J59 -> 2.9 | G81: 0 | H81: 0 | I81: 0 | M81: =SUM(D81:F81) -> 100 | N81: =SUM(G81:I81) -> 0
C82: f | D82: 0 | E82: 0 | F82: 0 | G82: ='6.7'!J60 -> 52 | H82: ='6.7'!J61 -> 46.1 | I82: ='6.7'!J62 -> 1.9 | M82: =SUM(D82:F82) -> 0 | N82: =SUM(G82:I82) -> 100
B83: 22 | C83: h | D83: ='6.7'!K57 -> 43.2 | E83: ='6.7'!K58 -> 52.2 | F83: ='6.7'!K59 -> 4.6 | G83: 0 | H83: 0 | I83: 0 | M83: =SUM(D83:F83) -> 100 | N83: =SUM(G83:I83) -> 0
C84: f | D84: 0 | E84: 0 | F84: 0 | G84: ='6.7'!K60 -> 40.3 | H84: ='6.7'!K61 -> 55.9 | I84: ='6.7'!K62 -> 3.8 | M84: =SUM(D84:F84) -> 0 | N84: =SUM(G84:I84) -> 100
B85: 23 | C85: h | D85: ='6.7'!L57 -> 31.7 | E85: ='6.7'!L58 -> 62.2 | F85: ='6.7'!L59 -> 6.1 | G85: 0 | H85: 0 | I85: 0 | M85: =SUM(D85:F85) -> 100 | N85: =SUM(G85:I85) -> 0
C86: f | D86: 0 | E86: 0 | F86: 0 | G86: ='6.7'!L60 -> 27.5 | H86: ='6.7'!L61 -> 67 | I86: ='6.7'!L62 -> 5.5 | M86: =SUM(D86:F86) -> 0 | N86: =SUM(G86:I86) -> 100
B87: 24 | C87: h | D87: ='6.7'!M57 -> 21.7 | E87: ='6.7'!M58 -> 68 | F87: ='6.7'!M59 -> 10.3 | G87: 0 | H87: 0 | I87: 0 | M87: =SUM(D87:F87) -> 100 | N87: =SUM(G87:I87) -> 0
C88: f | D88: 0 | E88: 0 | F88: 0 | G88: ='6.7'!M60 -> 17.4 | H88: ='6.7'!M61 -> 74 | I88: ='6.7'!M62 -> 8.5 | M88: =SUM(D88:F88) -> 0 | N88: =SUM(G88:I88) -> 99.9
B89: 25 | C89: h | D89: ='6.7'!N57 -> 12.9 | E89: ='6.7'!N58 -> 74.4 | F89: ='6.7'!N59 -> 12.7 | G89: 0 | H89: 0 | I89: 0 | M89: =SUM(D89:F89) -> 100 | N89: =SUM(G89:I89) -> 0
C90: f | D90: 0 | E90: 0 | F90: 0 | G90: ='6.7'!N60 -> 10.7 | H90: ='6.7'!N61 -> 78.7 | I90: ='6.7'!N62 -> 10.6 | M90: =SUM(D90:F90) -> 0 | N90: =SUM(G90:I90) -> 100
B91: 26 | C91: h | D91: ='6.7'!O57 -> 5.9 | E91: ='6.7'!O58 -> 75.2 | F91: ='6.7'!O59 -> 18.9 | G91: 0 | H91: 0 | I91: 0 | M91: =SUM(D91:F91) -> 100 | N91: =SUM(G91:I91) -> 0
C92: f | D92: 0 | E92: 0 | F92: 0 | G92: ='6.7'!O60 -> 5 | H92: ='6.7'!O61 -> 79.9 | I92: ='6.7'!O62 -> 15.2 | M92: =SUM(D92:F92) -> 0 | N92: =SUM(G92:I92) -> 100.1
B93: 27 | C93: h | D93: ='6.7'!P57 -> 2 | E93: ='6.7'!P58 -> 74.6 | F93: ='6.7'!P59 -> 23.4 | G93: 0 | H93: 0 | I93: 0 | M93: =SUM(D93:F93) -> 100 | N93: =SUM(G93:I93) -> 0
C94: f | D94: 0 | E94: 0 | F94: 0 | G94: ='6.7'!P60 -> 1.9 | H94: ='6.7'!P61 -> 77.8 | I94: ='6.7'!P62 -> 20.3 | M94: =SUM(D94:F94) -> 0 | N94: =SUM(G94:I94) -> 100
B95: 28 | C95: h | D95: ='6.7'!Q57 -> 0.9 | E95: ='6.7'!Q58 -> 73.4 | F95: ='6.7'!Q59 -> 25.7 | G95: 0 | H95: 0 | I95: 0 | M95: =SUM(D95:F95) -> 100 | N95: =SUM(G95:I95) -> 0
C96: f | D96: 0 | E96: 0 | F96: 0 | G96: ='6.7'!Q60 -> 0.4 | H96: ='6.7'!Q61 -> 73.1 | I96: ='6.7'!Q62 -> 26.6 | M96: =SUM(D96:F96) -> 0 | N96: =SUM(G96:I96) -> 100.1
B97: 29 | C97: h | D97: ='6.7'!R57 -> 0.3 | E97: ='6.7'!R58 -> 65 | F97: ='6.7'!R59 -> 34.7 | G97: 0 | H97: 0 | I97: 0 | M97: =SUM(D97:F97) -> 100 | N97: =SUM(G97:I97) -> 0
C98: f | D98: 0 | E98: 0 | F98: 0 | G98: ='6.7'!R60 -> 0.3 | H98: ='6.7'!R61 -> 69.5 | I98: ='6.7'!R62 -> 30.2 | M98: =SUM(D98:F98) -> 0 | N98: =SUM(G98:I98) -> 100
B99: 30 | C99: h | D99: ='6.7'!S57 -> 0.2 | E99: ='6.7'!S58 -> 60.4 | F99: ='6.7'!S59 -> 39.4 | G99: 0 | H99: 0 | I99: 0 | M99: =SUM(D99:F99) -> 100 | N99: =SUM(G99:I99) -> 0
C100: f | D100: 0 | E100: 0 | F100: 0 | G100: ='6.7'!S60 -> 0.2 | H100: ='6.7'!S61 -> 63.5 | I100: ='6.7'!S62 -> 36.3 | M100: =SUM(D100:F100) -> 0 | N100: =SUM(G100:I100) -> 100
...
